BEGIN:VCALENDAR
PRODID:-//eluceo/ical//2.0/EN
VERSION:2.0
CALSCALE:GREGORIAN
BEGIN:VEVENT
UID:46efd244328c828fdcb7f50df3769c0d
DTSTAMP:20260423T172612Z
SUMMARY:Taiwan Hybrid Trade Mission to CEE Countries - B2B
DESCRIPTION:Název akce: Taiwan Hybrid Trade Mission to CEE Countries - B2B
 \nURL: https://www.spcr.cz/taiwan-hybrid-trade-mission-cee-countries-b2b\n
 Popis: \n\nPojďte zanetworkovat s tchajwanskými firmami v odvětví spoj
 ovacích materiálů\, zdravotnických zařízení\, autodílů či nářa
 dí. Hybridní obchodní mise se zúčastní na 20 mezinárodně uznávan
 ých tchajwanských dodavatelů ve výše jmenovaných odvětvích a my V
 ám s nimi můžeme zprostředkovat online B2B setkání. Akce se uskuteč
 ní online 3.11. v dopoledních hodinách. List dodavatelů a více inform
 ací o akci naleznete zde: https://taiwan-pavilion.taitra.org.tw/2022CEE .
 \nPokud máte zájem\, zaregistrujte se\, prosím\, do 20. října 23:59 n
 a adrese info@taiwanchamber.cz.\nDěkujeme a budeme se těšit.Česko-tcha
 jwanská obchodní komora\nAre you a company based in the Czech Republic? 
 Join to network with your Taiwanese counterparts. The Trade Mission gather
 s up to 20 internationally recognized Taiwanese suppliers from the Hardwa
 re Fasteners\, Medical Devices\, Autoparts\, and Tools sectors. The B2B
  1:1 matchmaking sessions will deliberately focus on your business needs.
  Please register before 11:59 PM on October 20.\nHave a look at the curre
 nt list of Taiwanese suppliers attending the Trade Mission.\nREGISTRACE ZD
 E\n
URL:https://www.spcr.cz/taiwan-hybrid-trade-mission-cee-countries-b2b
DTSTART:20221103T080000
DTEND:20221103T120000
LOCATION:
END:VEVENT
END:VCALENDAR
