BEGIN:VCALENDAR
PRODID:-//eluceo/ical//2.0/EN
VERSION:2.0
CALSCALE:GREGORIAN
BEGIN:VEVENT
UID:6f85ec5b47a1d4ad06d65ac180e28523
DTSTAMP:20260423T145744Z
SUMMARY:Seminář Onemocnění bederní páteře jako nemoc z povolání
DESCRIPTION:Název akce: Seminář Onemocnění bederní páteře jako nemo
 c z povolání\nURL: https://www.spcr.cz/seminar-onemocneni-bederni-patere
 -jako-nemoc-z-povolani\nPopis: \n\nZveme vás na on-line seminář ONEMOCN
 ĚNÍ BEDERNÍ PÁTEŘE JAKO NEMOC Z POVOLÁNÍ. Seminář poskytne odborn
 é přednášky na témata:\n\nChronické onemocnění bederní páteře j
 ako nové nemoci z povolání - klinická kritéria a kritéria pracovní 
 expozice\nPodpora zdraví na pracovišti - komplexní přístup ke zdraví
  zaměstnanců\nOnemocnění bederní páteře jako nová nemoc z povolán
 í z pohledu práva\n\nPodrobné program najdete zde. Účast na seminář
 i je ZDARMA. Registrujte se do 2. 11. 2022 zde: https://forms.gle/J4WKDG2o
 tmy5W4dDA\n\nPodrobné informace týkající se připojení k tomuto on-li
 ne semináři Vám budou doručeny na e-mail\, který uvedete při registr
 aci přibližně hodinu před zahájením semináře.\n\nSeminář pořád
 á Evropská agentura pro bezpečnost a ochranu zdraví při práci (EU-OS
 HA) ve spolupráci s Ministerstvem práce a sociálních věcí\, Enterpri
 se Europe Network při Centru pro regionální rozvoj České republiky a 
 Svazem průmyslu a dopravy České republiky v rámci celoevropské kampan
 ě Zdravé pracoviště 2020 – 2022 s názvem „Zdravé pracoviště si
  posvítí na fyzickou zátěž“.\n
URL:https://www.spcr.cz/seminar-onemocneni-bederni-patere-jako-nemoc-z-povo
 lani
DTSTART:20221103T090000
DTEND:20221103T150000
LOCATION:
END:VEVENT
END:VCALENDAR
