BEGIN:VCALENDAR
PRODID:-//eluceo/ical//2.0/EN
VERSION:2.0
CALSCALE:GREGORIAN
BEGIN:VEVENT
UID:67903e37ef38d845606d72182f399112
DTSTAMP:20260423T150254Z
SUMMARY:Tunisian Economic Mission
DESCRIPTION:Název akce: Tunisian Economic Mission\nURL: https://www.spcr.c
 z/tunisian-economic-mission\nPopis: \n\nRádi bychom avizovali příchod t
 uniské byznysové mise do České republiky\, která se bude konat od 1. 
 do 6. listopadu 2022 v Praze a Brně. V rámci této byznysové mise jsou 
 naplánována i jednání\, byznysové fórum a následné i B2B setkání
 .\n\nRegistrace na B2B setkání s tuniskými firmami je možná na násle
 dujícím odkazu:\nRegistration for the Economic Mission from 01 to 06 Nov
 ember 2022 in Prague & Brno\, Czech Republic\nProgram byznysové mise nale
 znete v přílohách níže.\nbanner-en-v4.pdf\nEmailling-en-v3.pdf  V př
 ípadě zájmu o B2B setkání prosíme o registraci. Seznam tuniských fi
 rem bude následně zveřejněn registrovaným účastníkům.  Pro více 
 informací prosím kontaktovat Martina Natafalušiho: mnatafalusi@spcr.cz\
 n
URL:https://www.spcr.cz/tunisian-economic-mission
DTSTART:20221101T080000
DTEND:20221106T170000
LOCATION:
END:VEVENT
END:VCALENDAR
