BEGIN:VCALENDAR
PRODID:-//eluceo/ical//2.0/EN
VERSION:2.0
CALSCALE:GREGORIAN
BEGIN:VEVENT
UID:66819485b3e2aa50dc04730ffb8ad152
DTSTAMP:20260423T130625Z
SUMMARY:Akce EK: Role otevřeného obchodu ve stále více nejistém svět
 ě
DESCRIPTION:Název akce: Akce EK: Role otevřeného obchodu ve stále více
  nejistém světě\nURL: https://www.spcr.cz/akce-ek-role-otevreneho-obcho
 du-ve-stale-vice-nejistem-svete\nPopis: \n\nVážené dámy\, vážení p
 ánové\,\nrádi bychom Vás tímto pozvali na akci Setkání občanské s
 polečnosti na téma "Role otevřeného obchodu ve stále více nejistém 
 světě"\, kterou organizuje Evropská komise ve spolupráci s českou vl
 ádou v kontextu probíhajícího českého předsednictví v Radě Evrops
 ké unie. O své postřehy a názory na současné priority obchodní poli
 tiky EU a rovněž na to\, jak je agenda otevřeného obchodu součástí 
 reakce EU na geopolitické\, hospodářské a udržitelné výzvy\, který
 m dnes čelíme\, se podělí výkonný místopředseda Valdis Dombrovskis
  a český ministr průmyslu a obchodu Jozef Síkela. Akcí s občanskou s
 polečnosti Vás bude provádět moderátor Ondřej Houska\, novinář\, H
 ospodářských novin.\nDatum: 31 October 2022 from 14:45 – 16:45Místo:
  Corinthia Hotel PrahaPraha 4 - Nusle\, Kongresová 1655/1Praktické infor
 mace: můžete se zúčastnit buď fyzicky\, nebo virtuálně\; tlumočen
 í bude nabízeno do/z angličtiny\, francouzštiny\, němčiny a češtin
 y.Uzávěrka přihlášek: 26 října 2022 v 13:00\n
URL:https://www.spcr.cz/akce-ek-role-otevreneho-obchodu-ve-stale-vice-nejis
 tem-svete
DTSTART:20221031T144500
DTEND:20221031T170000
LOCATION:
END:VEVENT
END:VCALENDAR
