BEGIN:VCALENDAR
PRODID:-//eluceo/ical//2.0/EN
VERSION:2.0
CALSCALE:GREGORIAN
BEGIN:VEVENT
UID:1ef3da4c8e5e0faa2205c0dd065746bf
DTSTAMP:20260423T125843Z
SUMMARY:The EU´s Economic Resilience: Lesson Learned for the Digital Econo
 my
DESCRIPTION:Název akce: The EU´s Economic Resilience: Lesson Learned for 
 the Digital Economy\nURL: https://www.spcr.cz/eus-economic-resilience-less
 on-learned-digital-economy\nPopis: \n\nOn behalf of the Confederation of I
 ndustry of the Czech Republic\, we would like to invite you to a panel dis
 cussion about the EU´s Economic Resilience.\nThis event will provide a li
 vely platform for an active discussion between private and public represen
 tatives from national and European institutions.\nThe objective of the eve
 nt is to open and engage in a discussion on how to achieve the EU´s strat
 egic economic resilience\, as set out by the Czech Presidency as one of it
 s priorities.\nOpening speeches\n\nPetr Očko - Deputy Minister for Digita
 lization and Innovation\nJan Míča - Head of European Digital Agenda Unit
 \, Cabinet of Deputy Prime Minister for Digitalization\n\nSpeakers\n\nOnd
 řej Kovařík - Member of European Parliament\nCharlotte Andersdotter - I
 nternational Director and Head of EU-Office at Confederation of Swedish In
 terprise\nHosuk Lee Makiyama - Director of European Centre for Internation
 al Political Economy\nStefanie Ellen Stündel - Digitalisation and Innovat
 ion - Senior Representative\, BDI/BDA The German Business Representation\
 n\nModerator\n\nMilena Jabůrková - Vice President\, Confederation of Ind
 ustry of the Czech Republic\n\nRegistration\n\nVia online form until 18th 
 October 2022.\n\nThe event will be held in a hybrid format\, so we will be
  happy to welcome you in person or you can follow the discussion online\,
  a link will be sent to you upon your registration.\n
URL:https://www.spcr.cz/eus-economic-resilience-lesson-learned-digital-econ
 omy
DTSTART:20221019T090000
DTEND:20221019T110000
LOCATION:
END:VEVENT
END:VCALENDAR
