BEGIN:VCALENDAR
PRODID:-//eluceo/ical//2.0/EN
VERSION:2.0
CALSCALE:GREGORIAN
BEGIN:VEVENT
UID:9a6d2b1690e59bd9e6c7c07b5fbe9ce1
DTSTAMP:20260423T125705Z
SUMMARY:Webinář ČRA Programu rozvojového partnerství pro soukromý sek
 tor
DESCRIPTION:Název akce: Webinář ČRA Programu rozvojového partnerství 
 pro soukromý sektor\nURL: https://www.spcr.cz/webinar-cra-programu-rozvoj
 oveho-partnerstvi-pro-soukromy-sektor\nPopis: \n\nVážená paní\, váže
 ný pane\,\nníže naleznete informace o „Programu rozvojového partner
 ství pro soukromý sektor“ (Program B2B)\, který spravuje Česká roz
 vojová agentura.\nRádi bychom Vás informovali\, že Česká rozvojová
  agentura vyhlásila výzvu pro předkládání žádostí o dotaci na p
 řípravu a realizaci projektů v rámci „Programu rozvojového partne
 rství pro soukromý sektor“ (Program B2B) pro rok 2023.\nZnění dotač
 ní Výzvy včetně dalších informací o programu naleznete na stránk
 ách ČRA. Lhůta pro podání žádosti o poskytnutí dotace na zákla
 dě této výzvy je stanovena do 21. 11. 2022\, do 13:00 hod.\nCílem Pr
 ogramu B2B\, který spravuje Česká rozvojová agentura\, je zapojení s
 oukromého sektoru do naplňování cílů zahraniční rozvojové spolup
 ráce ČR\, podpora soukromého sektoru v rozvojových zemích a zárove
 ň plnění Cílů udržitelného rozvoje (SDGs). Projekty tak musí demon
 strovat rozvojový dopad pro daný region nebo cílovou skupinu (např. 
 rozvoj podnikatelského prostředí\, zapojení místních dodavatelů do 
 hodnotových řetězců\, posílení konkurenceschopnosti\, přenos techno
 logií a know-how\, tvorbu nových a kvalifikovaných pracovních míst\, 
 environmentálně přijatelné technologie nebo zavádění výrobních a 
 pracovních standardů).\nProgram B2B se zaměřuje na všechny rozvojov
 é země dle klasifikace OECD. Firmy mohou získat dotaci v režimu de 
 minimis až 50 % celkových nákladů (nejvýše však 500 tis. Kč) na 
 přípravu studií proveditelnosti a podnikatelských plánů nebo až 40
  % celkových nákladů (nejvýše však 2 mil. Kč) na samotnou realiza
 ci projektu.\nV souvislosti s výzvou pro předkládání žádostí o do
 taci v rámci Programu B2B pro rok 2023 proběhne 19. 10. 2022 od 10:00 h
 odin webinář pro potenciální žadatele. Přihlášení na webinář j
 e možné zde. Během webináře se žadatelé seznámí se strategií a
  s pravidly Programu B2B\, postupem při podávání žádosti\, hodnocen
 í apod. Prezentace z webináře bude následně zveřejněna na stránk
 ách ČRA. \n \nKontakt: Jolana DragounováManažerka zahraniční rozv
 ojové spolupráce se soukromým sektoremProgram B2BČeská rozvojová a
 genturaMail: B2B@czechaid.cz\n \n
URL:https://www.spcr.cz/webinar-cra-programu-rozvojoveho-partnerstvi-pro-so
 ukromy-sektor
DTSTART:20221019T100000
DTEND:20221019T120000
LOCATION:
END:VEVENT
END:VCALENDAR
