BEGIN:VCALENDAR
PRODID:-//eluceo/ical//2.0/EN
VERSION:2.0
CALSCALE:GREGORIAN
BEGIN:VEVENT
UID:fb87f8636871a1438ae3785de97ec66a
DTSTAMP:20260423T125131Z
SUMMARY:132. Kantonský veletrh
DESCRIPTION:Název akce: 132. Kantonský veletrh\nURL: https://www.spcr.cz/
 132-kantonsky-veletrh\nPopis: \n\n132. Kantonský veletrh bude zahájen vi
 rtuálně 15. října. V 50 výstavních sekcích se bude nacházet 16 kat
 egorií výrobků národního pavilonu a 6 kategorií mezinárodního pavi
 lonu. K tomuto se nadále připojí 132 pilotních zón cross-border e-co
 mmerce a další platformy. Kromě původních 25 000 vystavujících spo
 lečností virtuálního se k 132. Kantonskému veletrhu připojí 10 000 
 nových vystavovatelů\, včetně malých i velkých společností\, kter
 é se specializují na různé sektory\, včetně high-tech a dalších v
 ýrobních společností. 132. Kantonský veletrh bude pro vystavovatele 
 i nadále free of charge ve snaze usnadnit podnikům získávání zakáze
 k a růst trhů.Upřímně zveme zástupce z české podnikatelské komuni
 ty k účasti na 132. Kantonském veletrhu\, aby získali nové obchodní 
 příležitosti setkali se s novými i stávajícími čínskými partnery
 . Registrace je možná na webových stránkách veletrhu: https://www.c
 antonfair.org.cn/en-US\n \n
URL:https://www.spcr.cz/132-kantonsky-veletrh
DTSTART:20221015T000000
DTEND:20221019T235959
LOCATION:
END:VEVENT
END:VCALENDAR
