BEGIN:VCALENDAR
PRODID:-//eluceo/ical//2.0/EN
VERSION:2.0
CALSCALE:GREGORIAN
BEGIN:VEVENT
UID:ef440d101947ed19f592cb7cccff5c3a
DTSTAMP:20260423T125059Z
SUMMARY:EaP Connectivity Seminar in Vilnius
DESCRIPTION:Název akce: EaP Connectivity Seminar in Vilnius\nURL: https://
 www.spcr.cz/eap-connectivity-seminar-vilnius\nPopis: \n\nMinistries of For
 eign Affairs and Transport and Communications of Lithuania together with t
 he European Commission and the European External Action Service are organi
 sing the Eastern Partnership Connectivity Seminar.\n\nThe Eastern Partne
 rship policy remains a significant instrument which must be recalibrated a
 nd adapted to the current situation in the Eastern Partnership region. Eve
 n though\, Ukraine\, Moldova and Georgia have their own individual tracks\
 , moving at a different speed\, the EaP initiative serves as a common grou
 nd and is beneficial for formulating common goals and instruments for the 
 regional development\, especially in sectorial areas of energy\, digitalis
 ation\, transport and beyond. In this context\, the Ministries of Foreign 
 Affairs and Transport and Communications of Lithuania together with the Eu
 ropean Commission and the European External Action Service are organising 
 the Eastern Partnership Connectivity Seminar\, which will take place on 19
  October 2022 in Vilnius\, Lithuania. The meeting will be devoted to prese
 nt the opportunities provided by the EU Global Gateway program and other r
 egional connectivity frameworks\, such as the TEN-T Network\, the Three Se
 as Initiative\, as well as other regional connectivity priorities for the 
 Eastern Partnership countries.EU Member States’ Senior officials and the
  5 Eastern Partner countries (Belarus excluded) are kindly invited to part
 icipate. The format of the meeting is 1+2. We plan to start with an inform
 al social dinner on Tuesday (18 October) and proceed with a full-day sessi
 on on Wednesday (19 Ooctober). You will find more detailed draft agenda an
 d the concept paper of the seminar attached below. Invitation to the semin
 ar was already sent to the EU Member States through the COEST group in Bru
 ssels. The Agenda of the event will be regularly updated on the website\, 
 please check the latest version closer to the event.Should you have any fu
 rther questions\, please do not hesitate to contact the Eastern Partnershi
 p Policy Division of the Ministry of Foreign Affairs of Lithuania by e-mai
 l: rps@urm.lt.\nDraft_Agenda_21_Sept.pdf\nLT_Concept_-_EaP_Connectivity_Se
 minar_19-10-2022.docx\n
URL:https://www.spcr.cz/eap-connectivity-seminar-vilnius
DTSTART:20221019T083000
DTEND:20221019T170000
LOCATION:
END:VEVENT
END:VCALENDAR
