BEGIN:VCALENDAR
PRODID:-//eluceo/ical//2.0/EN
VERSION:2.0
CALSCALE:GREGORIAN
BEGIN:VEVENT
UID:832ccd262ed7e06e1400ac3012a96b6c
DTSTAMP:20260423T162951Z
SUMMARY:Mezinárodní konference DECARB 2022
DESCRIPTION:Název akce: Mezinárodní konference DECARB 2022\nURL: https:
 //www.spcr.cz/mezinarodni-konference-decarb-2022\nPopis: \n\nV Praze se us
 kuteční mezinárodní konference DECARB 2022 - DEKARBONIZACE ENERGETICK
 Y NÁROČNÝCH PRŮMYSLOVÝCH ODVĚTVÍ: VÝZVY\, PŘÍLEŽITOSTI A ŘEŠE
 NÍ\, kterou pořádá Svaz chemického průmyslu ČR v součinnosti s Oce
 lářskou unií\, a to v rámci českého předsednictví v Radě Evropsk
 é unie\, v pražském hotelu STAGES 10. a 11. listopadu 2022. Záštitu 
 nad touto prestižní akcí udělili ministr průmyslu a obchodu\, ministr
 yně životního prostředí\, ministryně pro vědu\, výzkum a inovace\,
  ministr pro evropské záležitosti a předsedkyně Akademie věd ČR. Ú
 čast na konferenci přislíbila i evropská komisařka pro energetiku Kad
 ri Simson.\nČlenům SP ČR bude poskytnuta sleva 50%  se slevovým kóde
 m DE50CA20 při registraci na konferenci.\n„Součástí konference bud
 ou diskuse a prezentace o širokém spektru legislativních\, environment
 álních\, technologických\, výzkumných a vývojových aspektů dekarbo
 nizace včetně výzev\, které čekají průmyslová odvětví EU předev
 ším v rámci plnění cílů Pařížské dohody z roku 2015\,“ uvedl 
 Ing. Ivan Souček\, Ph.D.\, ředitel Svazu chemického průmyslu ČR.Konfe
 rence se zúčastní významné české i evropské politické osobnosti\,
  zástupci průmyslu a odborníci\, aby společně diskutovali o správné
 m politickém rámci pro dekarbonizaci s ohledem na stávající řešení
  a technologie\, jakož i budoucí inovace pro recyklaci emisí skleníkov
 ých plynů\, o proveditelných a udržitelných možnostech dekarbonizace
 \, aby inspirovali všechny\, kteří se podílejí na různých aspektech
  zelené transformace\, a předvedou možnosti využití CO2 a dalších s
 kleníkových plynů jako vstupní suroviny pro chemické a jiné průmysl
 ové aplikace.Více o KONFERENCI se dočtete ZDE\n
URL:https://www.spcr.cz/mezinarodni-konference-decarb-2022
DTSTART:20221110T000000
DTEND:20221111T235959
LOCATION:
END:VEVENT
END:VCALENDAR
