BEGIN:VCALENDAR
PRODID:-//eluceo/ical//2.0/EN
VERSION:2.0
CALSCALE:GREGORIAN
BEGIN:VEVENT
UID:0983980c040493616f7d4de77d168884
DTSTAMP:20260423T162819Z
SUMMARY:2nd Uganda - EU Business Forum
DESCRIPTION:Název akce: 2nd Uganda - EU Business Forum\nURL: https://www.s
 pcr.cz/2nd-uganda-eu-business-forum\nPopis: \n\nDruhý ročník podnikatel
 ského fóra Uganda-Evropská unie (UEUBF) 2022 se bude konat 26. a 27. ř
 íjna 2022 v hotelu Speke Resort Munyonyo v ugandské Kampale. Toto podnik
 atelské fórum na vysoké úrovni s tématem "Mobilizace kvalitních inve
 stic a posílení obchodu mezi Ugandou a Evropskou unií" pořádá Delega
 ce EU v Ugandě a Nadace soukromého sektoru v Ugandě (PSFU) ve spoluprá
 ci s ugandskou vládou.\nVíce informací najdete na webu SP ČR zde: http
 s://www.spcr.cz/aktivity/proexportni-servis/podnikatelske-mise-a-seminare/
 15609-druhe-eu-uganda-podnikatelske-forum\n
URL:https://www.spcr.cz/2nd-uganda-eu-business-forum
DTSTART:20221026T080000
DTEND:20221027T170000
LOCATION:
END:VEVENT
END:VCALENDAR
