BEGIN:VCALENDAR
PRODID:-//eluceo/ical//2.0/EN
VERSION:2.0
CALSCALE:GREGORIAN
BEGIN:VEVENT
UID:40823c962fedb45c3467f71f6d0eabde
DTSTAMP:20260423T145940Z
SUMMARY:2nd UGANDA - EU Business Forum
DESCRIPTION:Název akce: 2nd UGANDA - EU Business Forum\nURL: https://www.s
 pcr.cz/2nd-uganda-eu-business-forum-0\nPopis: \n\nDruhý ročník podnikat
 elského fóra Uganda-Evropská unie (UEUBF) 2022 se bude konat 26. a 27. 
 října 2022 v hotelu Speke Resort Munyonyo v ugandské Kampale. Toto podn
 ikatelské fórum na vysoké úrovni s tématem "Mobilizace kvalitních in
 vestic a posílení obchodu mezi Ugandou a Evropskou unií" pořádá Dele
 gace EU v Ugandě a Nadace soukromého sektoru v Ugandě (PSFU) ve spolupr
 áci s ugandskou vládou.\nVíce informací najdete na webu SP ČR zde: ht
 tps://www.spcr.cz/aktivity/proexportni-servis/podnikatelske-mise-a-seminar
 e/15609-druhe-eu-uganda-podnikatelske-forum\n
URL:https://www.spcr.cz/2nd-uganda-eu-business-forum-0
DTSTART:20220926T080000
DTEND:20220927T170000
LOCATION:
END:VEVENT
END:VCALENDAR
