BEGIN:VCALENDAR
PRODID:-//eluceo/ical//2.0/EN
VERSION:2.0
CALSCALE:GREGORIAN
BEGIN:VEVENT
UID:00e41f16ff1564b3415af50c3156eae7
DTSTAMP:20260423T163428Z
SUMMARY:Pracovně lékařské služby
DESCRIPTION:Název akce: Pracovně lékařské služby\nURL: https://www.sp
 cr.cz/pracovne-lekarske-sluzby\nPopis: \n\nZveme Vás na seminář PRACOVN
 Ě LÉKAŘSKÉ SLUŽBY\, který pro Vás připravujeme s Krajskou hygienic
 kou stanicí Libereckého kraje se sídlem v Liberci\, Okresní hospodář
 skou komorou Liberec a Krajskou nemocnicí Liberec na 18.10.2022 cca od 9:
 00 do 12:00 v Krajské nemocnici Liberec.Těšit se můžete na příspěv
 ky ředitelky odboru práce KHS LK Ing. Kateřiny Forysové zajištění z
 dravotní způsobilosti k práci u zaměstnanců – kontrola Krajské hyg
 ienické stanice na dodržováním povinností zaměstnavatele vyplývají
 cí ze zákona č.262/2006 Sb. (zákoník práce)\, zákona č.373/2011 Sb
 .\, o specifických zdravotních službách ve spojení s vyhláškou č.7
 9/2013 Sb. o pracovnělékařských službách a některých druzích posu
 dkové péče \, MUDr. Moniky Čandové poskytování pracovnělékařský
 ch služeb z pohledu lékaře\, poskytovatele PLS a dozvíte se informace 
 k připravované novele vyhlášky č.79/2013 Sb.Po legislativním schvál
 ení novely vyhlášky č.79/2013 Sb obdrží účastníci zdarma možnost
  připojení k online akci\, kde Mgr. Jana Urbanová\, vedoucí oddělení
  hygieny práce a pracovního lékařství\, odbor ochrany veřejného zdr
 aví Ministerstva zdravotnictví shrne novinky novely a zodpoví dotazy ú
 častníků – předpoklad listopad 2022 Pozvánku s programem a odkazem 
 na závaznou registraci ( ZDE ) naleznete v příloze.Prosím o předání
  dalším kompetentním kolegům\, kteří se touto problematikou zabývaj
 í.Upozorňujeme na ztížené parkování v okolí nemocnice. Vjezd do ne
 mocnice z důvodu asfaltování silnice nebude umožněn.\n
URL:https://www.spcr.cz/pracovne-lekarske-sluzby
DTSTART:20221018T080000
DTEND:20221018T120000
LOCATION:
END:VEVENT
END:VCALENDAR
