BEGIN:VCALENDAR
PRODID:-//eluceo/ical//2.0/EN
VERSION:2.0
CALSCALE:GREGORIAN
BEGIN:VEVENT
UID:de0e672f89e78ce710607e86cd10ee34
DTSTAMP:20260423T125013Z
SUMMARY:Tunisko-české online fórum
DESCRIPTION:Název akce: Tunisko-české online fórum\nURL: https://www.sp
 cr.cz/tunisko-ceske-online-forum\nPopis: \n\nU příležitosti incomingov
 é tuniské podnikatelské mise pořádá SPČR ve spolupráci s tuniským
  partnerem CONECT tunisko-české podnikatelské fórum\, které proběhne
  ONLINE 03.10.2022 od 11:00h. Cílem podnikatelského fóra je představen
 í tuniského byznysu českým partnerům a vis-a-vis\, kde bude následn
 ě prostor pro dotazy. Online fórum je součástí podnikatelské mise\, 
 která bude od 01. do 06.11. přítomná v Praze a Brně a jejímž cílem
  je představit tuniský byznys a tuniské podnikatelské prostředí čes
 kým partnerům a potenciálním investorům v různých oblastech.\nV př
 ípadě zájmu o účast je potřeba se zaregistrovat nejpozději do 30. 0
 9. 2022 do 12:00 h.\nProgram k dispozici zde.\n
URL:https://www.spcr.cz/tunisko-ceske-online-forum
DTSTART:20221003T110000
DTEND:20221003T123000
LOCATION:
END:VEVENT
END:VCALENDAR
