BEGIN:VCALENDAR
PRODID:-//eluceo/ical//2.0/EN
VERSION:2.0
CALSCALE:GREGORIAN
BEGIN:VEVENT
UID:c0ac5b77390002dcee05d0fce87b49b1
DTSTAMP:20260423T150037Z
SUMMARY:Exportní příležitosti v USA a Kanadě
DESCRIPTION:Název akce: Exportní příležitosti v USA a Kanadě\nURL: ht
 tps://www.spcr.cz/exportni-prilezitosti-v-usa-kanade\nPopis: \n\nU příle
 žitosti Mezinárodního strojírenského veletrhu Brno 2022 Ministerstvo 
 průmyslu a obchodu ČR zve na seminář:\n "Jak uspět na severoamerick
 ých trzích? Exportní příležitosti v USA a Kanadě"  za přítomnost
 í zástupců agentury CzechTrade.\nKdy: 5. 10. od 13 hodinKde: BVV\, čes
 ká národní expozice\, pavilon P – stánek 10\, 11\nJan Chmelík Vedou
 cí oddělení Amerik | Odbor zahraničně ekonomických politik IIT  +42
 0 224 852 646chmelikj@mpo.czPolitických vězňů 20\, 112 49 Praha 1www
 .mpo.cz\n \n \n
URL:https://www.spcr.cz/exportni-prilezitosti-v-usa-kanade
DTSTART:20221005T130000
DTEND:20221005T170000
LOCATION:
END:VEVENT
END:VCALENDAR
