BEGIN:VCALENDAR
PRODID:-//eluceo/ical//2.0/EN
VERSION:2.0
CALSCALE:GREGORIAN
BEGIN:VEVENT
UID:cee3d8896ee00b2bd129b8272be54aa3
DTSTAMP:20260423T145951Z
SUMMARY:Ekonomické fórum El Salvador - Innovation and the Digital Nation
DESCRIPTION:Název akce: Ekonomické fórum El Salvador - Innovation and th
 e Digital Nation\nURL: https://www.spcr.cz/ekonomicke-forum-el-salvador-in
 novation-and-digital-nation\nPopis: \n\nDovolujeme si Vás pozvat na EKON
 OMICKÉ FÓRUM: El Salvador - Innovation and the Digital Nation\, které 
 se uskuteční při příležitosti návštěvy náměstkyně ministra zah
 raničních věcí Salvadoru paní Adriany Mira(ové) v ČR.Součástí f
 óra bude podrobnější informace velvyslanectví Salvadoru a připravova
 né obchodní misi pro firmy do Salvadoru s orientačním termínem v polo
 vině listopadu 2022\, s důrazem na oblast Bitcoin\, letecký průmysl (
 údržba civilních letadel) a obnovitelné zdroje energie.Akce je organiz
 ována ve spolupráci Velvyslanectvím Salvadoru v Berlíně a Svazem prů
 myslu a dopravy ČR.Hlavními oblastmi zacílení fóra budou: • obnovit
 elné zdroje energie\,• letectví\,• digitalizace státní správy\,
 • zkušenost Salvadoru s užíváním bitcoinu.Akce proběhne v angličt
 ině.Registrujte se\, prosím zde\, nejlépe do 10. října 11. hod. Podro
 bnější informace naleznete v pozvánce\, případně se můžete obrace
 t na jenickovam@mpo.cz.\nTěšíme se na Vás.\n
URL:https://www.spcr.cz/ekonomicke-forum-el-salvador-innovation-and-digital
 -nation
DTSTART:20221011T093000
DTEND:20221011T114500
LOCATION:
END:VEVENT
END:VCALENDAR
