BEGIN:VCALENDAR
PRODID:-//eluceo/ical//2.0/EN
VERSION:2.0
CALSCALE:GREGORIAN
BEGIN:VEVENT
UID:c517ee366fb5e605af355bc8160998cb
DTSTAMP:20260423T212835Z
SUMMARY:Jste připraveni na obchodování s IZRAELEM?
DESCRIPTION:Název akce: Jste připraveni na obchodování s IZRAELEM?\nURL
 : https://www.spcr.cz/jste-pripraveni-na-obchodovani-s-izraelem\nPopis: \n
 \nNa semináři se dozvíte:\n• Souhrnné informace o teritoriu\, Ekonom
 ická situace• Specifika trhu\, Perspektivní obory a exportní příle
 žitosti pro české firmy• Tipy a rady pro obchodování\, Služby Czec
 hTrade\nVíce informací a registrace\n
URL:https://www.spcr.cz/jste-pripraveni-na-obchodovani-s-izraelem
DTSTART:20221020T100000
DTEND:20221020T120000
LOCATION:
END:VEVENT
END:VCALENDAR
