BEGIN:VCALENDAR
PRODID:-//eluceo/ical//2.0/EN
VERSION:2.0
CALSCALE:GREGORIAN
BEGIN:VEVENT
UID:a616dced065d34a0f10f7eddb31b8ff1
DTSTAMP:20260423T131009Z
SUMMARY:Online seminář: Aktuální obchodní příležitosti v THAJSKU a 
 VIETNAMU
DESCRIPTION:Název akce: Online seminář: Aktuální obchodní příležit
 osti v THAJSKU a VIETNAMU\nURL: https://www.spcr.cz/online-seminar-aktualn
 i-obchodni-prilezitosti-v-thajsku-vietnamu\nPopis: \n\n\n
URL:https://www.spcr.cz/online-seminar-aktualni-obchodni-prilezitosti-v-tha
 jsku-vietnamu
DTSTART:20221018T100000
DTEND:20221018T113000
LOCATION:
END:VEVENT
END:VCALENDAR
