BEGIN:VCALENDAR
PRODID:-//eluceo/ical//2.0/EN
VERSION:2.0
CALSCALE:GREGORIAN
BEGIN:VEVENT
UID:abc55634edc8e95d88881b42b228aacd
DTSTAMP:20260423T145923Z
SUMMARY:Obchodní příležitosti na rostoucích trzích - INDIE\, USA\, KA
 ZACHSTÁN
DESCRIPTION:Název akce: Obchodní příležitosti na rostoucích trzích -
  INDIE\, USA\, KAZACHSTÁN\nURL: https://www.spcr.cz/obchodni-prilezitosti
 -na-rostoucich-trzich-indie-usa-kazachstan\nPopis: \n\nAktuální exportn
 í příležitosti v Indii\, USA a Kazachstánu\nExportní inkubátory v I
 ndii\, USA\, Kazachstánu\, seznámení s nabídkou a zkušenostmi (možn
 ost využívat kancelářské prostory spolu s využitím služeb pracovn
 íků zahraničních kanceláří\, využití místní adresy pro komunika
 ci se zahraničními partnery\, výhodný start na místním trhu)\nNové 
 služby CzechTrade pro exportéry (Market Entry\, Exportní aliance\, Komp
 as)\nOptimální formy vstupu na dané trhy\nINDIVIDUÁLNÍ KONZULTACE s 
 řediteli zahraničních kanceláří CzechTrade v Indii\, USA\, Kazachst
 ánu\n\nExportní příležitosti v USA\, Indii a Kazachstánu\, doporuče
 né kroky pro vstup na tamní trhy\, předpoklady úspěchu a obchodní zv
 yklosti přiblíží ředitelé zahraničních kanceláří CzechTrade:\n\
 nMarkéta Šebelová\, zástupkyně ředitele zahraniční kanceláře Cze
 chTrade v USA\nIvan Kameník\, ředitel zahraniční kanceláře CzechTrad
 e v Indii\nPetr Jurčík\, ředitel zahraniční kanceláře CzechTrade v 
 Kazachstánu\n\nNa akci lze vstoupit i bez vstupenky na veletrh. Není ted
 y určeno výhradně pro firmy účastnící se MSV Brno.Více informací 
 včetně registračního formuláře zde: https://www.czechtrade.cz/kalen
 dar-akci/archiv-akci/obchodni-prilezitosti-na-rostoucich-trzich-indie_-usa
 _-kazachstan\nÚčast na akci je ZDARMA. \n
URL:https://www.spcr.cz/obchodni-prilezitosti-na-rostoucich-trzich-indie-us
 a-kazachstan
DTSTART:20221005T110000
DTEND:20221005T123000
LOCATION:
END:VEVENT
END:VCALENDAR
