BEGIN:VCALENDAR
PRODID:-//eluceo/ical//2.0/EN
VERSION:2.0
CALSCALE:GREGORIAN
BEGIN:VEVENT
UID:a3a9dc28e7ae206c1f07679ca0de4912
DTSTAMP:20260423T193624Z
SUMMARY:CZE-TWN webinář: Odolná partnerství v dodavatelském řetězci 
 elektromobility
DESCRIPTION:Název akce: CZE-TWN webinář: Odolná partnerství v dodavate
 lském řetězci elektromobility\nURL: https://www.spcr.cz/cze-twn-webinar
 -odolna-partnerstvi-v-dodavatelskem-retezci-elektromobility\nPopis: \n\nAk
 ce proběhne ve středu 19. října od 9 hodin přes platformu webex.\nTch
 ajwanský průmyslový a technologický výzkumný institut (ITRI - https:
 //www.itri.org.tw/english/) inicioval seminář zaměřený na potenciáln
 í spolupráci v oblasti elektromobility a vybral si k tomu za partnera Sv
 az průmyslu a dopravy ČR.Industrial Technology Research Institute (ITRI
 ) je institut s největším počtem patentů na obyvatele země na svět
 ě\, který získal již přes 100 ocenění udělovaných každý rok sto
 vce nejlepších inovací z celého světa. Spolupracuje s univerzitami\, 
 nemocnicemi a firmami z různých sektorů\, stejně tak s partnery v zah
 raničí s cílem uvádět inovace do praxe. Ústředí ITRI má přes 60
 00 zaměstnanců. Podnikatelská delegace Svazu průmyslu a dopravy ústř
 edí ITRI ve městě Hsinchu navštívila v roce 2019 a prohlédla si s
 howroom\, kde jsou prezentovány výzkumné projekty z různých oblastí\
 , na kterých divize institutu pracovaly a následně proběhl seminář 
 zaměřený na oblast vědy a výzkumu\, který organizoval ITRI se svým 
 českým partnerem TAČR.  \n \n
URL:https://www.spcr.cz/cze-twn-webinar-odolna-partnerstvi-v-dodavatelskem-
 retezci-elektromobility
DTSTART:20221019T090000
DTEND:20221019T104500
LOCATION:
END:VEVENT
END:VCALENDAR
