BEGIN:VCALENDAR
PRODID:-//eluceo/ical//2.0/EN
VERSION:2.0
CALSCALE:GREGORIAN
BEGIN:VEVENT
UID:a2ff0578c624ed3014e16120bc1bc06b
DTSTAMP:20260423T125836Z
SUMMARY:B2B s jihoindickými firmami
DESCRIPTION:Název akce: B2B s jihoindickými firmami\nURL: https://www.spc
 r.cz/b2b-s-jihoindickymi-firmami-0\nPopis: \n\nZveme Vás na setkání s f
 irmami z indického svazového státu Tamilnádu\, které přicestují do
  ČR\, aby se zúčastnily MSV v Brně a setkaly s českými firmami i v 
 Praze.Podnikatelskou delegaci zastřešuje Jihoindická obchodní a prů
 myslová komora (Southern India Chamber of Commerce and Industry - SICCI
 )\, jejímž prezidentem je honorární konzul ČR pro stát Tamilnádu R.
 M. Arun.\nAkce proběhne ve čtvrtek 6. října 2022 od 13:30 hodin (od 
 13:15 registrace) v sídle Ministerstva průmyslu a obchodu ČR\, v ulic
 i Politických vězňů 20\, Praha 1.Pozvánka zde.Těžiště delegace j
 e v automobilovém a elektro průmyslu\, 2 společnosti působí v oblast
 i aerospace a 1 v alternativní/zelené energetice. Jedná se většinou o
  MSP a startups. Seznam jihoindické podnikatelské delegace najdete zde
 . V případě zájmu o účast prosíme o vyplnění registačního form
 uláře zde.\n
URL:https://www.spcr.cz/b2b-s-jihoindickymi-firmami-0
DTSTART:20221006T133000
DTEND:20221006T150000
LOCATION:
END:VEVENT
END:VCALENDAR
