BEGIN:VCALENDAR
PRODID:-//eluceo/ical//2.0/EN
VERSION:2.0
CALSCALE:GREGORIAN
BEGIN:VEVENT
UID:0d3574d796bd4c46c695d8ca69dfa52f
DTSTAMP:20260423T150246Z
SUMMARY:Setkání s japonskými podnikateli
DESCRIPTION:Název akce: Setkání s japonskými podnikateli\nURL: https://
 www.spcr.cz/setkani-s-japonskymi-podnikateli-0\nPopis: \n\nSvaz průmyslu 
 a dopravy ČR společně s Hospodářskou komorou ČR Vás zve na setkán
 í s významnými japonskými podnikateli\, a to v pondělí 10. října 
 2022 od 13:30 hodin v sídle Ministerstva průmyslu a obchodu ČR (Na Fra
 ntišku 32\, Praha 1).Pozvánku s programem najdete zde.Japonskou podnik
 atelskou delegaci povede předseda představenstva ředitel společnosti 
 Hitachi\, Ltd. pan Toshiaki HIGASHIHARA a korporátní poradce společnost
 i Sumitomo Life Insurance Company pan Yoshio SATO. Seznam japonské podn
 ikatelské delegace najdete zde.\nV případě zájmu o účast prosíme o
  vyplnění registačního formuláře zde.\n
URL:https://www.spcr.cz/setkani-s-japonskymi-podnikateli-0
DTSTART:20221010T133000
DTEND:20221010T153000
LOCATION:
END:VEVENT
END:VCALENDAR
