BEGIN:VCALENDAR
PRODID:-//eluceo/ical//2.0/EN
VERSION:2.0
CALSCALE:GREGORIAN
BEGIN:VEVENT
UID:b8c2a152471f2cd69d11fb6259ae9c76
DTSTAMP:20260423T130228Z
SUMMARY:Meeting Point CzechTrade na MSV v Brně 2022 - konzultace exportu s
  řediteli CT
DESCRIPTION:Název akce: Meeting Point CzechTrade na MSV v Brně 2022 - kon
 zultace exportu s řediteli CT\nURL: https://www.spcr.cz/meeting-point-cze
 chtrade-na-msv-v-brne-2022-konzultace-exportu-s-rediteli-ct\nPopis: \n\nP
 římo do Brna na Mezinárodní strojírenský veletrh přijedou ředitel
 é zahraničních kanceláří CzechTrade a pomohou vám řešit vaše ex
 portní aktivity v 31 zemích.\nŘeditelé zahraničních kanceláří Cze
 chTrade dlouhodobě působí v teritoriích\, znají aktuální dění na 
 tamních trzích\, exportní příležitosti\, obchodní podmínky\, zvykl
 osti\, jazyk i kontakty. Vám\, exportérům pomáhají otevírat více dv
 eří\, než by přineslo individuální snažení v neznámém prostřed
 í. Pomohou s výběrem vhodných teritorií pro váš výrobek nebo služ
 bu\, s nalezením obchodních partnerů\, zhodnotí reálné šance na ús
 pěch a doporučí\, jak nejlépe postupovat.Zda je právě váš obor či
 nnosti perspektivní pro vybraný zahraniční trh\, můžete snadno zjist
 it na https://www.czechtrade.cz/czechtrade-svet. V profilu každé země 
 jsou uvedené perspektivní exportní obory.Konzultace poskytnou také odb
 orníci z Klientského centra pro export\, které je společnou aktivitou
  Ministerstva průmyslu a obchodu\, Ministerstva zahraničních věcí a a
 gentury CzechTrade. Další konzultace firmám poskytnou specialistky Des
 ign Centra CzechTrade\, které je národní platformou státní podpory de
 signu.\nORGANIZAČNÍ INFORMACE\n\nPřihlásit se můžete až na pět ze
 mí.\nKonzultace jsou individuální a délka jedné je 30 minut.\nÚčas
 t na akci je zdarma\, avšak je nutná předchozí rezervace.\nPo odeslá
 ní přihlášky vás bude kontaktovat exportní konzultant CzechTrade 
 a upřesní konkrétní termíny vašich jednání.\nV souladu s právní 
 úpravou o ochraně osobních údajů si vás dovolujeme upozornit\, že z
  akce budou pořizovány fotografie. Ty použijeme na webu agentury\, v p
 rofilech CzechTrade na sociálních sítích\, v médiích v reportáž
 ích z akce apod. Snímky budou mít ilustrační charakter\, bez identif
 ikace zachycených osob. V případě\, že si nepřejete být fotografov
 áni\, prosíme\, kontaktujte nás na marketing@czechtrade.cz. Děkujeme.
 \n\nKontakt: Zuzana Pluhařovázuzana.pluharova@czechtrade.czT: +42022490
 7508M: +420724281110\n
URL:https://www.spcr.cz/meeting-point-czechtrade-na-msv-v-brne-2022-konzult
 ace-exportu-s-rediteli-ct
DTSTART:20221006T090000
DTEND:20221006T170000
LOCATION:
END:VEVENT
END:VCALENDAR
