BEGIN:VCALENDAR
PRODID:-//eluceo/ical//2.0/EN
VERSION:2.0
CALSCALE:GREGORIAN
BEGIN:VEVENT
UID:e66187eed29c291b9ab44b0a19b48a1a
DTSTAMP:20260423T130528Z
SUMMARY:Den s budoucí zemědělskou diplomatkou v USA 
DESCRIPTION:Název akce: Den s budoucí zemědělskou diplomatkou v USA \nU
 RL: https://www.spcr.cz/den-s-budouci-zemedelskou-diplomatkou-v-usa\nPopis
 : \n\nMinisterstvo zemědělství ČR zve firmy na konzultace s budoucí z
 emědělskou diplomatkou v USA Terezou Černou.\nINDIVIDUÁLNÍ KONZULTACE
  mají časovou dotaci á 30 min a proběhnou osobně v budově Ministerst
 va zemědělství (Těšnov 17\, Praha 1) v místnosti 167. Účast na kon
 zultacích je zdarma.V případě zájmu sdělte do 26. září 2022 na em
 ail michal.kulik@mze.cz nebo ondrej.misiaczek@mze.cz preferované časové
  rozmezí a oblast Vašeho zájmu\, případně volejte na tel. 221 812 00
 2 či 221 812 327.\n
URL:https://www.spcr.cz/den-s-budouci-zemedelskou-diplomatkou-v-usa
DTSTART:20221003T090000
DTEND:20221003T160000
LOCATION:
END:VEVENT
END:VCALENDAR
