BEGIN:VCALENDAR
PRODID:-//eluceo/ical//2.0/EN
VERSION:2.0
CALSCALE:GREGORIAN
BEGIN:VEVENT
UID:64840ad21a84ba520bdb77a206530779
DTSTAMP:20260423T145914Z
SUMMARY:Podnikatelská mise s ministrem zahraničí do Indie
DESCRIPTION:Název akce: Podnikatelská mise s ministrem zahraničí do Ind
 ie\nURL: https://www.spcr.cz/podnikatelska-mise-s-ministrem-zahranici-do-i
 ndie-0\nPopis: \n\nZveme Vás k účasti v podnikatelské delegaci\, kte
 rou povede viceprezidentka Svazu průmyslu a dopravy ČR Milena Jabůrkov
 á\, a která bude doprovázet ministra zahraničních věcí České repu
 bliky Jana Lipavského při jeho návštěvě Indické republiky\, a to v
 e dnech 7. až 11. listopadu 2022.\nPodle předběžného rámcového pro
 gramu navštíví podnikatelská delegace Dillí a Bombaj. Svaz průmyslu 
 a dopravy ČR zorganizuje ve spolupráci s Velvyslanectvím ČR v Dillí
 \, Kanceláří CzechTrade v Bombaji a partnerským Svazem indického prů
 myslu podnikatelská fóra a B2B jednání a další networkingové akce a
  program.\nRámcový program:Pondělí 7. listopadu – odlet z Prahy vl
 ádním letadlem do Dillí\, přílet v podvečer do DillíÚterý 8. lis
 topadu – podnikatelské fórum a B2B jednání a další program\, recep
 ce na Velvyslanectví ČR k oslavě státních svátků 28.10. a 17.11.St
 ředa 9. listopadu – dopoledne program v Dillí\, odpoledne přelet do 
 BombajeČtvrtek 10. listopadu – podnikatelské fórum a B2B jednání v
  Bombaji ve spolupráci s honorární konzulkou a pobočkou Svazu indick
 ého průmysluPátek 11. listopadu – program v Bombaji\, prohlídka mě
 sta a odlet z Bombaje do Prahy\nÚčast v delegaci doporučujeme zejmén
 a firmám z oblasti strojírenství a kolejové dopravy\, smart energetik
 y\, ICT\, leteckého a obranného průmyslu\, zdravotnictví\, cestovního
  ruchu a dalších inovativních oborů.\nUzávěrka závazných přihlá
 šek je ve čvrtek 6. října 2022.\nZálohová cena za účast v podnika
 telské delegaci je pro členské firmy SP ČR  54 150\,- Kč\, pro ne
 členské subjekty 57 000\,- Kč a zahrnuje ubytování v hotelích\, m
 ístní transfery\, společenské akce\, vízový poplatek\, zápis do ofi
 ciálního katalogu mise a náklady spojené s přípravou cesty a služb
 ami pracovníků SP ČR během cesty (přeprava vládním speciálem je zd
 arma).\nZávaznou podepsanou a naskenovanou přihlášku prosíme zaslat e
 -mailem na adresu stancevova@spcr.cz. Současně s přihláškou je nut
 né vyplnit i elektronický formulář\, který najdete na v odkaze zde.B
 ez vyplnění elektronického formuláře nemůžeme Vaši přihlášku zp
 racovat. V elektronickém formuláři vyplňte informace pečlivě\, slou
 ží jako podklad pro tištěný katalog k misi a jako informace pro partn
 ery v Indii.\nProsíme také o vyplnění jednoho snímku v Powerpointu
 \, který bude součástí společné PPT prezentace\, a která bude slou
 žit pro představení delegace na podnikatelských seminářích.\nDále 
 prosíme o zaslání skenu pasu\, minimální platnost pasu musí být 6 
 měsíců od data vstupu do Indie. Mezi Indií a ČR je vízový styk\, in
 strukce k postupu žádosti o vízum obdržíte po Vaší registraci.Pro 
 vstup do Indie je nutné mít ukončené očkování proti nákaze covidu 
 -19 (2 dávky).\nPodnikatelskou misi organizačně zajišťují manažeři
  Sekce mezinárodních vztahů Mgr. Sabina Tančevová a Mgr. Martin Nataf
 aluši. Bližší informace Vám poskytneme na tel. 225 279 402.\n
URL:https://www.spcr.cz/podnikatelska-mise-s-ministrem-zahranici-do-indie-0
DTSTART:20221107T080000
DTEND:20221111T170000
LOCATION:
END:VEVENT
END:VCALENDAR
