BEGIN:VCALENDAR
PRODID:-//eluceo/ical//2.0/EN
VERSION:2.0
CALSCALE:GREGORIAN
BEGIN:VEVENT
UID:ea47ff770fa340c055717bb77d9d2f5e
DTSTAMP:20260423T130625Z
SUMMARY:Hybridní akce k 5. výročí prozatimní platnosti dohody CETA
DESCRIPTION:Název akce: Hybridní akce k 5. výročí prozatimní platnost
 i dohody CETA\nURL: https://www.spcr.cz/hybridni-akce-k-5-vyroci-prozatimn
 i-platnosti-dohody-ceta\nPopis: \n\n21st of September 2022 marks the fifth
  anniversary of the provisional application of the EU-Canada Comprehensive
  Economic and Trade Agreement (CETA). The Agreement remains a core driver 
 of the EU’s privileged and very solid relationship with this close ally 
 and like-minded partner. The current geopolitical context creates a moment
 um for even closer cooperation between the EU and Canada.\nTo mark these f
 ive years of CETA\, the Delegation of the European Union in Canada and the
  Directorate-General for Trade\, in collaboration with the Service for For
 eign Policy Instruments (FPI) of the European Commission\, cordially invit
 e you to the hybrid public event ‘Five years of CETA: sustainable and re
 liable trade in uncertain times’.\nThe event will be held on the 21st of
  September 2022\, both on-line and on-site at the Marriott Hotel Grand Pla
 ce located at Rue A. Orts 3-7 in Brussels.\nModerated by acclaimed trade j
 ournalist Ms Maria Tadeo\, this event will showcase how CETA delivers both
  in economic terms and as a comprehensive agreement encompassing a broad r
 ange of relations between the EU and Canada and facilitating the digital a
 nd green transitions in both economies. In particular\, the speakers and p
 anellists will reflect on future opportunities stemming from the Agreement
 .\nThe keynote interview with Director-General Sabine Weyand will be an op
 portunity to discuss how CETA fits into the EU’s trade policy and how it
  responds to the challenges of today’s world. BusinessEurope’s Direct
 or General Markus Beyrer will participate in the keynote panel discussion.
 \n How to register? \nYou can register\, as well as join the event on-lin
 e\, via the following webpage: https://ceta-5-years-anniversary-event.b2ma
 tch.io/\nEleonora CatellaDEPUTY DIRECTORINTERNATIONAL RELATIONS DEPARTMENT
 168 AVENUE DE CORTENBERGH1000 BRUSSELS - BELGIUMTel : +32 (0) 2 237 65 65
 e.catella@businesseurope.euwww.businesseurope.eu\n
URL:https://www.spcr.cz/hybridni-akce-k-5-vyroci-prozatimni-platnosti-dohod
 y-ceta
DTSTART:20220921T133000
DTEND:20220921T183000
LOCATION:
END:VEVENT
END:VCALENDAR
