BEGIN:VCALENDAR
PRODID:-//eluceo/ical//2.0/EN
VERSION:2.0
CALSCALE:GREGORIAN
BEGIN:VEVENT
UID:508e010807333049081608b2150a90db
DTSTAMP:20260423T124932Z
SUMMARY:Swiss Innovation Forum na MSV v Brně
DESCRIPTION:Název akce: Swiss Innovation Forum na MSV v Brně\nURL: https:
 //www.spcr.cz/swiss-innovation-forum-na-msv-v-brne\nPopis: \n\nObchodní k
 omora Švýcarsko - Česká republika pořádá Swiss Innovation Forum dn
 e 5. října 2022 během MSV v Brně. \nNa akci budou švýcarské firmy 
 prezentovat svoje novinky v oblasti inovací\, následovat bude panelová 
 diskuse na toto téma moderovaná panem Jiřím Jirkovským\, vicepreziden
 tem komory.\nPodrobnosti naleznete v pozvánce zde. Registrace je možná
  zde.\nKontaktní osoba:Terézia ČížkováBusiness Project ManagerHST O
 bchodní komora Švýcarsko - Česká republikaHST Handelskammer Schweiz -
  Tschechische RepublikHST Chamber of Commerce Switzerland - Czech Republic
 Jankovcova 1569/2c170 00 Praha 7222 516 614602 644 194\n
URL:https://www.spcr.cz/swiss-innovation-forum-na-msv-v-brne
DTSTART:20221005T093000
DTEND:20221005T130000
LOCATION:
END:VEVENT
END:VCALENDAR
