BEGIN:VCALENDAR
PRODID:-//eluceo/ical//2.0/EN
VERSION:2.0
CALSCALE:GREGORIAN
BEGIN:VEVENT
UID:30363b1ec8a9b587c818f6ef8a6f3b2c
DTSTAMP:20260423T145940Z
SUMMARY:Business klub Ukrajina organizuje cestu do Lvova
DESCRIPTION:Název akce: Business klub Ukrajina organizuje cestu do Lvova\n
 URL: https://www.spcr.cz/business-klub-ukrajina-organizuje-cestu-do-lvova\
 nPopis: \n\nVe dnech 26.9. - 27.9.2022 se uskuteční podnikatelská mise 
 MPO a Business klubu Ukrajina do Lvova pod vedením náměstka ministra Ed
 uarda Muřického.\n\nVzhledem k aktuálním potřebám ukrajinské stran
 y je v případě této akce výběr účastníků omezen na zájemce zej
 ména ze sektorů zdravotnictví\, energetika\, stavebnictví\, vodohospod
 ářství a infrastruktury. Výběr sektorů přizvaných k první misi j
 e motivován snahou o poskytnutí maximálně efektivní pomoci Ukrajině 
 na její cestě k obnově. Plánované business fórum bude mít za cíl 
 propojit české firmy s ukrajinskými\, seznámit je s konkrétními pr
 ojekty ukrajinské strany a prohloubit spolupráci se zástupci Lvovské o
 blasti.\nZájemce si dovolujeme s ohledem na omezenou kapacitu upozornit\
 , že zastoupení každé firmy bude omezeno na jednu osobu. Ostatní zá
 jemci (nejen z aktuálně poptávaných sektorů) budou mít možnost vyu
 žít některé z dalších plánovaných businessových cest o kterých 
 bude BKUA informovat.\nZájemce žádáme\, aby se přihlásili a email: u
 krajina@mpo.cz (jméno zástupce firmy\, stručný popis činnosti firmy a
  záměr cesty).\nInformace o Business klubu Ukrajina naleznete na webové
  stránce zde.\n
URL:https://www.spcr.cz/business-klub-ukrajina-organizuje-cestu-do-lvova
DTSTART:20220926T080000
DTEND:20220927T170000
LOCATION:
END:VEVENT
END:VCALENDAR
