BEGIN:VCALENDAR
PRODID:-//eluceo/ical//2.0/EN
VERSION:2.0
CALSCALE:GREGORIAN
BEGIN:VEVENT
UID:8beace75972f3bb6fe251d41d596061c
DTSTAMP:20260423T145807Z
SUMMARY:Aktuální situace v oblasti zaměstnávání cizinců v ČR
DESCRIPTION:Název akce: Aktuální situace v oblasti zaměstnávání cizi
 nců v ČR\nURL: https://www.spcr.cz/aktualni-situace-v-oblasti-zamestnava
 ni-cizincu-v-cr-2\nPopis: \n\nMinisterstvo průmyslu a obchodu ve spolupr
 áci s Ministerstvem zahraničních věcí\, Ministerstvem práce a sociá
 lních věcí a Ministerstvem vnitra si Vás dovolují pozvat na seminář
 \nAktuální situace v oblasti zaměstnávání cizinců v ČR\nPROGRAM SE
 MINÁŘE: Seminář nabídne potřebné informace k vládním programům e
 konomické migrace a aktuální situaci v oblasti zaměstnávání cizinc
 ů v kontextu dění na Ukrajině. Seminář je především určen zaměs
 tnavatelům\, kteří hledají odpovědi na otázky\, jak legálně zaměs
 tnat kvalifikované zaměstnance ze třetích zemí\, dále garantům prog
 ramů ekonomické migrace a dalším subjektům\, které mají zájem se b
 líže seznámit s problematikou zaměstnávání cizinců.\nPodrobný pro
 gram ke stažení zde.\nDATUM KONÁNÍ: 23. září 2022\, 9:30 –15:00 h
 od.\nMÍSTO KONÁNÍ: Úřad práce ČR – Krajská pobočka v Příbrami
 \, Nám. T. G. Masaryka 145\nNeváhejte se proto co nejdříve na seminá
 ř registrovat vyplněním registračního formuláře na webových strán
 kách MPO. V případě dotazů nás můžete kontaktovat na adrese migrac
 einfo@mpo.cz. Registrace a účast na semináři je bezplatná.\n
URL:https://www.spcr.cz/aktualni-situace-v-oblasti-zamestnavani-cizincu-v-c
 r-2
DTSTART:20220923T090000
DTEND:20220923T150000
LOCATION:
END:VEVENT
END:VCALENDAR
