BEGIN:VCALENDAR
PRODID:-//eluceo/ical//2.0/EN
VERSION:2.0
CALSCALE:GREGORIAN
BEGIN:VEVENT
UID:f387faa8c98479ac7d78cb816599f581
DTSTAMP:20260423T130350Z
SUMMARY:Zaměstnávání vězňů a jejich vstup na trh práce (Věznice Ho
 rní Slavkov)
DESCRIPTION:Název akce: Zaměstnávání vězňů a jejich vstup na trh pr
 áce (Věznice Horní Slavkov)\nURL: https://www.spcr.cz/zamestnavani-vezn
 u-jejich-vstup-na-trh-prace-veznice-horni-slavkov\nPopis: \n\nDobrý den\,
 \ndovolujeme si Vás pozvat\, nebo Vaše kolegy (prosím o předání)\,
  na unikátní workshop zaměřený na zaměstnávání vězňů.\nTento 
 workshop se bude konat přímo ve věznici v Horním Slavkově a součast
 í bude i prohlídka vybraných prostor. Více informací naleznete v při
 ložené pozvánce. \nSetkání proběhne 27.9. od 9:30 a registrovat se 
 je možné na této adrese: https://registrace.spcr.cz/?eventId=999&contr
 oller=event&task=individualRegister\n\nProsím Vás o včasnou registraci\
 , protože z důvodu zvýšených bezpečnostních nároků musíme regist
 raci uzavřít nejpozději ve čtvrtek 22.9.\n\nDěkuji za pochopení a p
 řeji hezký den.\n\nMICHAL LEHKÝregionální manažer pro Plzeňský\, 
 Jihočeský a Karlovarský krajSVAZ PRŮMYSLU A DOPRAVY ČREdvarda Beneše
  21 | 301 00 PlzeňGSM: 734 393 675\n
URL:https://www.spcr.cz/zamestnavani-veznu-jejich-vstup-na-trh-prace-veznic
 e-horni-slavkov
DTSTART:20220927T093000
DTEND:20220927T120000
LOCATION:
END:VEVENT
END:VCALENDAR
