BEGIN:VCALENDAR
PRODID:-//eluceo/ical//2.0/EN
VERSION:2.0
CALSCALE:GREGORIAN
BEGIN:VEVENT
UID:fd769c3cd35907461564ee8ddf044ab0
DTSTAMP:20260423T145750Z
SUMMARY:Online seminář: Jak expandovat na ITALSKÝ trh
DESCRIPTION:Název akce: Online seminář: Jak expandovat na ITALSKÝ trh\n
 URL: https://www.spcr.cz/online-seminar-jak-expandovat-na-italsky-trh\nPop
 is: \n\nZajímáte se o export do ITÁLIE? Ředitel zahraniční kancel
 áře CzechTrade v Miláně\, Marek Atanasčev vám představí aktuální
  příležitosti na tomto zajímavém evropském trhu  – ŽIVĚ.\nVí
 ce informací a registrace\n
URL:https://www.spcr.cz/online-seminar-jak-expandovat-na-italsky-trh
DTSTART:20221013T100000
DTEND:20221013T113000
LOCATION:
END:VEVENT
END:VCALENDAR
