BEGIN:VCALENDAR
PRODID:-//eluceo/ical//2.0/EN
VERSION:2.0
CALSCALE:GREGORIAN
BEGIN:VEVENT
UID:6366e712dbcdf947a43a66e5b61c650c
DTSTAMP:20260423T130319Z
SUMMARY:Energetická krize eskaluje\, je nutné ji řešit
DESCRIPTION:Název akce: Energetická krize eskaluje\, je nutné ji řešit
 \nURL: https://www.spcr.cz/energeticka-krize-eskaluje-je-nutne-ji-resit\nP
 opis: \n\nKonference „Energetická krize eskaluje\, je nutné ji řeši
 t."\nDopady na domácnosti a firmy. Modely stabilizace a odstranění př
 íčin současného stavu vysokých cen energií.\nVíce informací zde\n
  Členům SP ČR  bude poskytnuta sleva 10%. Přihlásí-li se více ne
 ž 3 účastníci z jedné společnosti\, mohou počítat se slevou 15%. 
  Zcela dole v "Poznámka k přihlášce" -  napište "člen SP"\n \n
URL:https://www.spcr.cz/energeticka-krize-eskaluje-je-nutne-ji-resit
DTSTART:20221013T083000
DTEND:20221013T170000
LOCATION:
END:VEVENT
END:VCALENDAR
