BEGIN:VCALENDAR
PRODID:-//eluceo/ical//2.0/EN
VERSION:2.0
CALSCALE:GREGORIAN
BEGIN:VEVENT
UID:63f3f5963e16f0d62f26c63b1a4d69a1
DTSTAMP:20260423T212835Z
SUMMARY:Webinář : Taiwan-Europe Semiconductor Forum
DESCRIPTION:Název akce: Webinář : Taiwan-Europe Semiconductor Forum\nURL
 : https://www.spcr.cz/webinar-taiwan-europe-semiconductor-forum\nPopis: \n
 \nThe National Development Council of the Republic of China (Taiwan) is or
 ganizing a webinar “Taiwan-Europe Semiconductor Forum” from October 17
 th to 21st\, 2022.\nThe event is co-organized by Ministry of Economic Affa
 irs\, Ministry of Foreign Affairs\, National Science and Technology Counci
 l\, and Ministry of Education\, and is hosted by Industrial Technology Res
 earch Institute (ITRI).The National Development Council of the Republic of
  China (Taiwan) is organizing a webinar “Taiwan-Europe Semiconductor For
 um” from October 17th to 21st\, 2022. The event is co-organized by Minis
 try of Economic Affairs\, Ministry of Foreign Affairs\, National Science a
 nd Technology Council\, and Ministry of Education\, and is hosted by Indus
 trial Technology Research Institute (ITRI).This online webinar aims to sha
 re the experiences and knowledge of the Taiwan semiconductor sector. Parti
 cipants will be able to explore business cooperation opportunities and str
 engthen the connection in future technology development of the semiconduct
 or industry. For the agenda please refer to the flyer here.\nThe webinar o
 bjective is to provide participants with comprehensive overviews including
 :1. The fundamentals of semiconductor design and manufacturing.2. The deve
 lopment of silicon IPs and business models with IP portfolio.3. The market
  trend for semiconductor applications and the product strategy and develop
 ment.4. The arrangement of virtual online visits to leading research labor
 atories and companies.\nThe target audiences are:1. Business leaders and e
 xecutives (managers\, directors\, CTO\, CEO) from semiconductor industries
  or related companies.2. High-level government representatives including p
 olicymakers\, regulators\, advisors\, senior advisors\, senior directors.3
 . Professors and senior directors from semiconductor related research inst
 itutes.4. Senior representatives from semiconductor related associations.\
 nIf interested\, please fill in the registration form and email it to at c
 zech@sa.moea.gov.tw or cztwec01@sa.moea.gov.tw at the earliest possible da
 te\, before September 16th\, 2022.If interested\, please ask them to fill 
 in the registration form and email it back to us at czech@sa.moea.gov.tw o
 r cztwec01@sa.moea.gov.tw at the earliest possible date\, before September
  16th\, 2022.\nEconomic Division\, Taipei Economic and Cultural Office Zas
 tupitelství Tchaj-wanu v České republice Evropská 2590/33c\, 160 00 Pr
 aha 6 Tel.: +420 234 722 021 cztwec01@sa.moea.gov.tw\, cztwec01@gmail.com\
 n
URL:https://www.spcr.cz/webinar-taiwan-europe-semiconductor-forum
DTSTART:20221017T000000
DTEND:20221021T235959
LOCATION:
END:VEVENT
END:VCALENDAR
