BEGIN:VCALENDAR
PRODID:-//eluceo/ical//2.0/EN
VERSION:2.0
CALSCALE:GREGORIAN
BEGIN:VEVENT
UID:237dd20cb73daf196d59f5effb69de05
DTSTAMP:20260423T131009Z
SUMMARY:Francouzsko-české fórum na téma udržitelného průmyslu a ener
 getické účinnosti
DESCRIPTION:Název akce: Francouzsko-české fórum na téma udržitelného
  průmyslu a energetické účinnosti\nURL: https://www.spcr.cz/francouzsk
 o-ceske-forum-na-tema-udrzitelneho-prumyslu-energeticke-ucinnosti-0\nPopis
 : \n\nCílem francouzsko-českého fóra o udržitelném průmyslu a energ
 etické účinnosti je představit konkrétní příklady využití inova
 tivních technologií a řešení v následujících oblastech: úspory 
 energie v průmyslu\, snižování uhlíkové stopy\, zelené materiály a
  cirkulární ekonomika.\n\nFórum pořádá Sustainaible Business Forum F
 rancouzsko-české obchodní komory ve spolupráci se Svazem průmyslu a d
 opravy ČR a za podpory Komerční banky\, společností Manutan\, Schneid
 er Electric a TotalEnergies.\nAkce se koná v průběhu Mezinárodního st
 rojírenského veletrhu v Brně\nVíce informací a registrace na akci zde
 \n
URL:https://www.spcr.cz/francouzsko-ceske-forum-na-tema-udrzitelneho-prumys
 lu-energeticke-ucinnosti-0
DTSTART:20221005T130000
DTEND:20221005T150000
LOCATION:
END:VEVENT
END:VCALENDAR
