BEGIN:VCALENDAR
PRODID:-//eluceo/ical//2.0/EN
VERSION:2.0
CALSCALE:GREGORIAN
BEGIN:VEVENT
UID:779bc4732d357634e62c99c170e1c538
DTSTAMP:20260423T130647Z
SUMMARY:Pozvánka na prezentaci černohorských IT Startup firem a následn
 ý networking
DESCRIPTION:Název akce: Pozvánka na prezentaci černohorských IT Startup
  firem a následný networking\nURL: https://www.spcr.cz/pozvanka-na-preze
 ntaci-cernohorskych-it-startup-firem-nasledny-networking\nPopis: \n\nRádi
  bychom vás pozvali na akci pořádanou Ministerstvem průmyslu a obchodu
  ve spolupráci s dalšími partnery (Czech Trade\, CzechInvest). Jedná 
 se o prezentaci černohorských IT start-up firem: Digital Den Hub\, Infos
 tream a Amplitudo\, po které budete mít možnost networkingu s černoho
 rskými partnery. Prezentaci zahájí prezident Černé Hory Milo Djukanov
 ić a ministr Jozef Síkela. Akce se koná ve středu 14.9. od 9:30 do 11:
 30 hod. v budově MPO Na Františku\, Praha 1.\nV případě zájmu pros
 ím potvrďte vaši účast do pondělí 12.9. na adrese grossova@mpo.cz\n
URL:https://www.spcr.cz/pozvanka-na-prezentaci-cernohorskych-it-startup-fir
 em-nasledny-networking
DTSTART:20220914T093000
DTEND:20220914T113000
LOCATION:
END:VEVENT
END:VCALENDAR
