BEGIN:VCALENDAR
PRODID:-//eluceo/ical//2.0/EN
VERSION:2.0
CALSCALE:GREGORIAN
BEGIN:VEVENT
UID:d00787054628698d99ea7a1e073bb9dc
DTSTAMP:20260423T150037Z
SUMMARY:Konference Kolektivní vyjednávání s odbory
DESCRIPTION:Název akce: Konference Kolektivní vyjednávání s odbory\nUR
 L: https://www.spcr.cz/konference-kolektivni-vyjednavani-s-odbory\nPopis: 
 \n\nZveme vás na konferenci IV. ročník konference Kolektivní vyjednáv
 ání s odbory\, které Svaz průmyslu a dopravy ČR poskytl záštitu.\n\
 nAktuálnost tohoto setkání je podložena současným turbulentním stav
 em – růstem inflace a navýšením mzdových požadavků\, zejména ze 
 strany odborů.\nTěsit se můžete na PRAKTICKY ORIENTOVANÝ VÝKLAD A DI
 SKUZI.\n\nnetworking pro zaměstnavatele a odbory\npraktická řešení\nk
 onstruktivní přístup\npostupy v průběhu kolektivního vyjednávání\
 nrůst inflace a cen energií vs. požadavky na revizi kolektivních smluv
 \nprostor pro hledání oboustranně vyhovujících kompromisů\nodbory vs
 . zaměstnavatelé = hledání shody a sociální dialog\n\nSeznámíte se
  s praktickým řešením i postupy v průběhu kolektivního vyjednáván
 í a získáte prostor pro vzájemnou výměnu zkušeností. Dozvíte se\,
  jak postupovat při sporech při jednání o uzavření kolektivní smlou
 vy a jak při průběžném jednání s odborovými organizacemi. Budete u
 pozorněni na časté chyby zaměstnavatelů a dozvíte se\, jak se jim vy
 varovat.\nKdo bude sdílet zkušenosti?\n Mgr. Vladimír Černý (rozhodce
  pracovněprávních vztahů)\; JUDr. Ondřej Fedoročko (OS SKP)\; Ing. J
 iří Halbrštát (ManpowerGroup)\; Ing. Pavel Puff (TREXIMA)\; Josef Šin
 delka (kouč a HR manažer)\; Ing. Linda Kostrůnková (Nexen Tire Europe)
 \; Mgr. Lenka Štíbrová (Severočeské vodovody a kanalizace)\; Simona M
 alečková Černá (Tesco Stores ČR)\; František Škrdlant (Valeo Compre
 ssor Europe) a další.Členové Svazu průmyslu a dopravy ČR mají slevu
  25 % na vstupné. Pro více informací pište na e-mail: tsebestova@spcr.
 cz.\nVíce informací najdete ZDE.\n
URL:https://www.spcr.cz/konference-kolektivni-vyjednavani-s-odbory
DTSTART:20221020T090000
DTEND:20221020T170000
LOCATION:
END:VEVENT
END:VCALENDAR
