BEGIN:VCALENDAR
PRODID:-//eluceo/ical//2.0/EN
VERSION:2.0
CALSCALE:GREGORIAN
BEGIN:VEVENT
UID:725213c4b600c71f08dee26adf6c261a
DTSTAMP:20260423T162951Z
SUMMARY:Online seminář k portálu Access2Markets
DESCRIPTION:Název akce: Online seminář k portálu Access2Markets\nURL: h
 ttps://www.spcr.cz/online-seminar-k-portalu-access2markets-0\nPopis: \n\nR
 ádi bychom pozvali české firmy\, podnikatele a další zájemce na nadc
 házející online seminář k portálu Access2Markets (A2M). Portál se 
 stále zdokonaluje a přibylo mnoho nových funkcí a informací\, např. 
 v části Služby a Investice či v části Veřejné zakázky (nástroj
  Access2Procurement).\nSeminář pořádaný Evropskou komisí se uskuteč
 ní dne 28. 9. 2022 od 9-11 hodin. V rámci tohoto semináře Komise port
 ál A2M představí\, včetně jeho částí týkajících se dovozů\, v
 ývozů a překážek obchodu a bude se věnovat i nástrojům Single Entr
 y Point\, ROSA (Rules of Origin self-assesment)\, Access2Procurement a roz
 šíření nástroje v oblasti služeb a investic. Seminář proběhne v
  angličtině s tlumočením do češtiny. Detaily k semináři a i podro
 bnosti\, jak se na seminář přihlásit\, naleznete přímo na tomto odka
 zu:  https://trade.ec.europa.eu/access-to-markets/en/content/events-access
 2markets.\n
URL:https://www.spcr.cz/online-seminar-k-portalu-access2markets-0
DTSTART:20220928T090000
DTEND:20220928T110000
LOCATION:
END:VEVENT
END:VCALENDAR
