BEGIN:VCALENDAR
PRODID:-//eluceo/ical//2.0/EN
VERSION:2.0
CALSCALE:GREGORIAN
BEGIN:VEVENT
UID:4e0dadcc39c16dcc3a55561d0946bde6
DTSTAMP:20260423T125219Z
SUMMARY:2022 Energy Taiwan
DESCRIPTION:Název akce: 2022 Energy Taiwan\nURL: https://www.spcr.cz/2022-
 energy-taiwan\nPopis: \n\n2022 Energy Taiwan\, is the only renewable energ
 y procurement platform in Taiwan\, which will be held in Taipei Nangang Ex
 hibition Center from October 19th to October 21st\, 2022. Key exhibitors i
 nclude companies in the fields of solar photovoltaics (PV)\, wind power\, 
 hydrogen\, electric vehicles (EV) and smart energy storage. For a better i
 dea about the event\, please refer to the summary report of 2021 Energy Ta
 iwan here.\n2022 Energy Taiwan contains the following exhibitions:1) PV Ta
 iwan2) Wind Energy Taiwan3) Smart Storage Taiwan: Smart Grids\, Smart Mete
 rs\, Electric Vehicles and Batteries4) Net-Zero Taiwan: Energy Saving and 
 Management\, Circular Economy\, and Green Finance and Renewable Energy Tra
 ding5) Emerging Power Taiwan: Hydrogen\, Hydropower\, Geothermal Power\nFo
 r the latest updates\, please visit the official website https://www.energ
 ytaiwan.com.tw/en/index.html\nTo encourage higher participation at this ev
 ent\, we are offering an incentive that covers air tickets and/or accommod
 ation depending on the annual sales of the company.\nFor registration and 
 the incentive application\, please fill in the attached “company profile
 ” form and send it to czech@sa.moea.gov.tw or cztwec01@sa.moea.org.tw .\
 nFor further information\, please feel free to contact:Ms. Tereza Šafář
 ováEconomic DivisionTaipei Economic and Cultural Office\, PragueTel.: (+4
 20) 234 722 021\n
URL:https://www.spcr.cz/2022-energy-taiwan
DTSTART:20221019T000000
DTEND:20221019T235959
LOCATION:
END:VEVENT
END:VCALENDAR
