BEGIN:VCALENDAR
PRODID:-//eluceo/ical//2.0/EN
VERSION:2.0
CALSCALE:GREGORIAN
BEGIN:VEVENT
UID:b76abcd640cd75460392e986e7bcab99
DTSTAMP:20260423T162731Z
SUMMARY:Jak uspět na exportním trhu SKANDINÁVIE
DESCRIPTION:Název akce: Jak uspět na exportním trhu SKANDINÁVIE\nURL: h
 ttps://www.spcr.cz/jak-uspet-na-exportnim-trhu-skandinavie\nPopis: \n\nPro
 gram akce(Registrace od 13.00 hodin)\n\nAktuální situace na trzích ŠV
 ÉDSKA\, FINSKA\, NORSKA\, DÁNSKA\nTipy na úspěšný export\nObchodní 
 a kulturní zvyklosti\nOslovení potenciálního obchodního partnera\nObo
 rové příležitosti pro české podnikatele\nPrávní aspekty vstupu če
 ských firem na švédský trh a vysílání pracovníku z ČR do Švédsk
 a\nPlánované akce CzechTrade\n\nINDIVIDUÁLNÍ KONZULTACE s ředitelem z
 ahraniční kanceláře CzechTrade ve ŠvédskuPřednášející:Tomáš R
 ousek\, ředitel zahraniční kanceláře CzechTrade ve ŠvédskuKateřina
  Strömsholm\, švédská advokátka a Honorární konzulka České republ
 iky ve Švédsku.\nPřihlášení na seminář je možné zde.\n
URL:https://www.spcr.cz/jak-uspet-na-exportnim-trhu-skandinavie
DTSTART:20221010T133000
DTEND:20221010T160000
LOCATION:
END:VEVENT
END:VCALENDAR
