BEGIN:VCALENDAR
PRODID:-//eluceo/ical//2.0/EN
VERSION:2.0
CALSCALE:GREGORIAN
BEGIN:VEVENT
UID:4d32fe1fdd251041bb0676c69557e0a4
DTSTAMP:20260423T162731Z
SUMMARY:Současná situace na ukrajinském trhu - podmínky obchodování v
  době stanného práva
DESCRIPTION:Název akce: Současná situace na ukrajinském trhu - podmínk
 y obchodování v době stanného práva\nURL: https://www.spcr.cz/soucasn
 a-situace-na-ukrajinskem-trhu-podminky-obchodovani-v-dobe-stanneho-prava\n
 Popis: \n\nS Oksanou Antonenko\, ředitelkou zahraniční kanceláře Czec
 hTrade na Ukrajině\, se zaměříme na specifika vedení mezinárodního
  obchodu za podmínek stanného práva.Hostem semináře bude paní Moni
 ka Šimůnková Hošková z advokátní kanceláře\, PETERKA & PARTNERS\,
  se kterou probereme obchodní a právní aspekty nejčastěji skloňova
 ných témat v souvislosti s exportem na Ukrajinu.\nAnotace:Aktuální sit
 uace na místním trhu\, služby CzechTradePrávní pohled na otázky/prob
 lémy\, s nimiž se setkávají české podniky působící na ukrajinsk
 ém trhu\n\nSídlo firmy (majetek\, sklady) se nachází na okupovaném ú
 zemí. Jak mají postupovat čeští zakladatelé\, aby nevzniklo poruše
 ní legislativy a případné daňové pokuty?\nSídlo firmy se nachází 
 na území\, které kontroluje Ukrajina\, ale s ředitelem/účetním nema
 jí zakladatelé kontakt již v průběhu několika měsíců. Jak postu
 povat?\nPoškozené zařízení\, sklad atd. se nachází se na ukrajinsk
 ém území nebo na území\, které je okupováno. Jak je třeba nahlás
 it škodu\, která vznikla v důsledku válečných událostí?\nJak na zr
 ušení\, založení podniku\, jmenování nového vedení v ukrajinské 
 pobočce v době stanného práva?\nJaké jsou povinnosti zaměstnavatele
 \, pokud zaměstnanec narukoval do armády?\nJak probíhají platby a dod
 ávky zboží ukrajinskému zákazníkovi\, jehož sídlo se nachází ned
 aleko linie fronty?\nMožnosti dočasného dovozu zařízení\, zatímco 
 ČR nevystavuje ATA carnet.\nDalší důležité změny pro mezinárodní 
 obchod a působení podniků\, které vznikly v době stanného práva.\n
 \nOtázky a odpovědiProstor pro Vaše případné dotazy\nObecné informa
 ce:\n\nSvé dotazy k tématu můžete zaslat před online seminářem pros
 třednictvím přihlášky\, nebo prostřednictvím chatu na akci.\nDen p
 řed konáním akce Vám e-mailem zašleme vstupní odkaz na danou online 
 akci.\nK účasti na semináři potřebujete pouze PC\, notebook či telef
 on s internetovým připojením.\nAkce je ZDARMA.\n\nPro účast na tomto 
 online semináři je nutná registrace zde.\n
URL:https://www.spcr.cz/soucasna-situace-na-ukrajinskem-trhu-podminky-obcho
 dovani-v-dobe-stanneho-prava
DTSTART:20220915T100000
DTEND:20220915T113000
LOCATION:
END:VEVENT
END:VCALENDAR
