BEGIN:VCALENDAR
PRODID:-//eluceo/ical//2.0/EN
VERSION:2.0
CALSCALE:GREGORIAN
BEGIN:VEVENT
UID:eb693494c91bcea3d9fd0000d4a5054b
DTSTAMP:20260423T145940Z
SUMMARY:The Light of the Internet Expo – nabídka online účasti pro fir
 my
DESCRIPTION:Název akce: The Light of the Internet Expo – nabídka online
  účasti pro firmy\nURL: https://www.spcr.cz/light-internet-expo-nabidka-
 online-ucasti-pro-firmy\nPopis: \n\nVe dnech 25. – 28. září 2022 prob
 ěhne ve městě Wuzhen\, v provincii Zhejiang každoroční výstava Lig
 ht of the Internet Expo. GK Šanghaj nabízí pro české firmy zajištěn
 í online účasti zdarma.\n\nLight of the Internet Expo je organizována 
 každoročně ve městě Wuzhem\, v provincii Zhejinag\, v rámci World 
 Internet Conference. Hlavními organizátory jsou Cyberspace Administratio
 n of China\, Ministry of Science and Technology\, Ministry of Industry and
  Information Technology and the People’s Government of Zhejiang Province
 .\nVýstava je zaměřená na internet\, digitalizaci\, big data\, nejnov
 ější vývojové trendy\, technologie a obecně digitální reformu v c
 elé řadě oborů a odvětví. V roce 2021 se na výstavě prezentovalo 
 343 čínských a zahraničních firem z 24 států a regionů. Jejich pr
 odukty\, technologie a aplikace si během výstavy prohlédlo 47 000 náv
 štěvníků. Další informace lze nalézt v přiložených plakátech\,
  či na webových stránkách výstavy - https://www.wicwuzhen.cn/\nV le
 tošním roce bude výstava pořádána v klasickém i online formátu. P
 ro případné zájemce o účast z řad českých firem nabízí pořada
 tel zdarma následující možnosti online účasti:\n1. Vystavovatel si m
 ůže vybrat z následujících 3 standardů pro online výstavní halu:\n
 Varianta A - 2D výstavní stránka\n\nobsahuje: možnost nahrávat a upra
 vovat obsah expozice\, představení společnosti\, elektronickou vizitku\
 , informace o výstavě atd.\n\nVarianta B - 3D výstavní sál 50 m2\, za
 hrnuje:\n\n1 video\n5 statických plakátů\n5 aktivních míst (obrázek/
 text/video/zvuk)\n2D výstavní stránka\n\nVarianta C - 3D výstavní sá
 l 100m2\, zahrnuje:\n\n2 videa\n7 statických plakátů\n7 aktivních mís
 t (obrázek/text/video/zvuk)\n2D výstavní stránka\n\n2. Online vydání
  nového produktu:\n\nPro účast musí vystavovatel nahrát video předst
 avující své nové produkty\n\n\n\nV případě zájmu o účast na Lig
 ht of the Internet Expo kontaktujte prosím co nejdříve obchodní úsek 
 GK Šanghaj – commerce_shanghai@mzv.cz\n
URL:https://www.spcr.cz/light-internet-expo-nabidka-online-ucasti-pro-firmy
DTSTART:20220925T080000
DTEND:20220928T170000
LOCATION:
END:VEVENT
END:VCALENDAR
