BEGIN:VCALENDAR
PRODID:-//eluceo/ical//2.0/EN
VERSION:2.0
CALSCALE:GREGORIAN
BEGIN:VEVENT
UID:6220ab4d52a77917f849ed48d8cb0a93
DTSTAMP:20260423T125530Z
SUMMARY:Business den Ukrajiny na MSV v Brně
DESCRIPTION:Název akce: Business den Ukrajiny na MSV v Brně\nURL: https:/
 /www.spcr.cz/business-den-ukrajiny-na-msv-v-brne\nPopis: \n\nKomora pro ho
 spodářské styky se SNS\, s.o.k.\, spolu s Česko-ukrajinskou obchodní 
 komorou\, o.s. (kterou jsme založili již v roce 2009)\, ve spolupráci 
 s Obchodně průmyslovou komorou Dněpropetrovské oblasti Ukrajiny a za 
 podpory MPO ČR a Veletrhů Brno připravují na 5. října 2022 od 09:30
  hodin v sále Morava\, pavilon A3 tradiční setkání zástupců čes
 kých firem s představiteli Dněpropetrovské oblasti a také českých 
 institucí\, jejichž posláním je podpora exportu.\n\nZa ukrajinskou str
 anu by se měli účastnit předsedy Oblastní rady Dněpropetrovské obla
 sti N. Lukašuka\, prezident OPK Dněpropetrovské oblasti V: Žmurenka\, 
 ředitelka Dněpropetrovské investiční agentury V. Zatyšňak a několi
 ka členů ukrajinského parlamentu. Delegaci by měla doprovázet mise p
 ředstavitelů ukrajinských firem.\nNa české straně by měl být minis
 tr průmyslu a obchodu J. Síkela a představitelé EGAP\, ČEB\, někter
 é z komerčních bank a zástupce advokátní kanceláře PRK Partners s
 .r.o. s informacemi z teritoria.\nDíky partnerství s BVV máme k dis
 pozici kód\, díky kterému budete mít při registraci vstupenky příst
 up na výstaviště dne 5. 10. 2022 ZDARMA! Tento kód Vám zašleme na z
 ákladě podepsané přihlášky k účasti na konferenci.\nPřihláška 
 na konferenci v níže. Uzávěrka přihlášek je 16. 9. 2022.\nPřihlá
 ška_BD_UA_2022.docx\nPro více informací prosím kontaktovat předsedu p
 ředstavenstva Komory SNS\, Františka Masopusta: masopust@komorasns.cz\n
  \n
URL:https://www.spcr.cz/business-den-ukrajiny-na-msv-v-brne
DTSTART:20221005T093000
DTEND:20221005T140000
LOCATION:
END:VEVENT
END:VCALENDAR
