BEGIN:VCALENDAR
PRODID:-//eluceo/ical//2.0/EN
VERSION:2.0
CALSCALE:GREGORIAN
BEGIN:VEVENT
UID:45a2eebdfb5a2ed39b3034e9f153cfc9
DTSTAMP:20260423T213116Z
SUMMARY:CEE Automotive Supply Chain 2022
DESCRIPTION:Název akce: CEE Automotive Supply Chain 2022\nURL: https://www
 .spcr.cz/cee-automotive-supply-chain-2022\nPopis: \n\nDovoľujeme si Vás 
 pozvať na piaty ročník podujatia CEE Automotive Supply Chain\, ktoré t
 vorí konferencia\, B2B rokovania a networking. Minulý ročník\, ktorý 
 sa konal v Olomouci\, navštívilo 300 delegátov z 9 krajín. Podujatie j
 e určené pre dodávateľov a subdodávateľov do automobilového a pridr
 uženého priemyslu.Organizátori: - Britská obchodná komora na Slovensk
 u- Francúzsko-slovenská obchodná a priemyselná komora- Kórejská agen
 túra na podporu obchodu a investícií- Slovensko-nemecká obchodná a pr
 iemyselná komora- Združenie automobilového priemyslu Českej republiky-
  Zväz automobilového priemyslu Slovenskej republiky\nHlavní organizáto
 ri sú zárukou kvalitného programu konferencie a početnej účasti čle
 nov zo všetkých vrstiev dodávateľského reťazca. Využite možnosť s
 tretnúť sa a nadviazať spoluprácu s významnými predstaviteľmi sekto
 ru automotive nielen z nášho regiónu.Podujatím bude sprevádzať Ivan 
 Hodáč\, automotive expert a bývalý generálny sekretár ACEA.\nViac in
 formácií a registrácia: www.ceeautomotive.eu (early-bird vstupenky k di
 spozícii do 9. septembra 2022).\nAko člen Svazu průmyslu a dopravy Čes
 ké Republiky máte nárok na zľavu 10% z ceny vstupenky po zadaní promo
 kódu SPCR22CASC počas registrácie.\nAk by ste sa radi stali partnerom p
 odujatia\, pre viac informácií o možnostiach spolupráce kontaktujte pa
 rtnerships@congress.sk\n
URL:https://www.spcr.cz/cee-automotive-supply-chain-2022
DTSTART:20221011T000000
DTEND:20221012T235959
LOCATION:
END:VEVENT
END:VCALENDAR
