BEGIN:VCALENDAR
PRODID:-//eluceo/ical//2.0/EN
VERSION:2.0
CALSCALE:GREGORIAN
BEGIN:VEVENT
UID:2dd96597d6cfd631e4ca55389a8a9266
DTSTAMP:20260423T125643Z
SUMMARY:Veletrh SPS - smart production solutions\, Norimberk\, SRN
DESCRIPTION:Název akce: Veletrh SPS - smart production solutions\, Norimbe
 rk\, SRN\nURL: https://www.spcr.cz/veletrh-sps-smart-production-solutions-
 norimberk-srn-0\nPopis: \n\nNa 31. ročníku veletrhu SPS se očekává p
 řibližně 1 100vystavovatelů z celého světa\, kteří se zúčastn
 í tohoto veletrhuchytré a digitální automatizace. Ve dnech 8.-10. 11.
  2022 budouv Norimberku představeny nejnovější produkty a řešení 
 a takétechnologie budoucnosti určující trendy v průmyslovéautomati
 zaci.\nVíce informací\n
URL:https://www.spcr.cz/veletrh-sps-smart-production-solutions-norimberk-sr
 n-0
DTSTART:20221108T000000
DTEND:20221110T235959
LOCATION:
END:VEVENT
END:VCALENDAR
