BEGIN:VCALENDAR
PRODID:-//eluceo/ical//2.0/EN
VERSION:2.0
CALSCALE:GREGORIAN
BEGIN:VEVENT
UID:ea89775ce9566d161a2d122f52674a9e
DTSTAMP:20260423T130528Z
SUMMARY:Webinář "Jak využít dohodu CETA a zda rozšířit její oblast 
 působnosti“
DESCRIPTION:Název akce: Webinář "Jak využít dohodu CETA a zda rozší
 řit její oblast působnosti“\nURL: https://www.spcr.cz/webinar-jak-vyu
 zit-dohodu-ceta-zda-rozsirit-jeji-oblast-pusobnosti\nPopis: \n\nOn 8th Sep
 tember\, the EU Delegation in Canada and the DG Trade\, in collaboration w
 ith DG Internal Market\, Industry\, Entrepreneurship and SMEs\, and the Se
 rvice for Foreign Policy Instruments (FPI)\, will organise a webinar entit
 led ‘How to make use of the EU-Canada Comprehensive Economic and Trade A
 greement (CETA) Protocol on Conformity Assessment and whether to extend it
 s scope’ to which you are cordially invited. Please see the attached pro
 gramme for details.\nThe webinar is part of a series of events organised a
 round the fifth anniversary of CETA’s provisional entry into force. The 
 Agreement remains a core driver of the EU’s privileged and very solid re
 lationship with this close ally and like-minded partner. The current geopo
 litical context creates a momentum for even closer cooperation between the
  EU and Canada.\nThe webinar is an opportunity to learn about the Conformi
 ty Assessment Protocol\, its implementation\, and the respective roles of 
 the European Co-operation for Accreditation and the European Commission in
  the implementation of the Conformity Assessment Protocol. It will also gi
 ve an opportunity for an interactive discussion on the EU’s interest to 
 extend the Conformity Assessment Protocol’s scope.\n How to register? 
   You can register via this link: https://us06web.zoom.us/meeting/registe
 r/tZcqcOCgrTIpG9DrBrGV1NDwF41RCYg_g9F4\n Should you need any additional i
 nformation please contact Ms. Philadelphia Zawierucha representing the con
 tractor who helps with the organisation of this event:\nPhiladelphia ZAWIE
 RUCHATECHNICAL DIRECTORGovernance and Economic DevelopmentGOPA Worldwide C
 onsultants GmbHTel +49 6172 930 538philadelphia.zawierucha@gopa.dehttps://
 www.gopa.de\n
URL:https://www.spcr.cz/webinar-jak-vyuzit-dohodu-ceta-zda-rozsirit-jeji-ob
 last-pusobnosti
DTSTART:20220908T140000
DTEND:20220908T180000
LOCATION:
END:VEVENT
END:VCALENDAR
