BEGIN:VCALENDAR
PRODID:-//eluceo/ical//2.0/EN
VERSION:2.0
CALSCALE:GREGORIAN
BEGIN:VEVENT
UID:150c08e6836b8a792ef3caecb54012d1
DTSTAMP:20260423T145806Z
SUMMARY:Živá knihovna povolání
DESCRIPTION:Název akce: Živá knihovna povolání\nURL: https://www.spcr.
 cz/ziva-knihovna-povolani-2\nPopis: \n\nRozhoduješ se\, na jakou středn
 í školu půjdeš? Čím chceš být?Napadlo tě\, kde můžeš po škole
  pracovat?Přijď si na vlastní kůži vyzkoušet zajímavé profese!Sezn
 am se s firmami ve tvém okolí a vyber si tu správnou školu pro Tebe.
 S rozhodováním ti pomůže:- kariérový poradce – Úřad práce Če
 ské republiky – KrP v Liberci- seřizovač – Preciosa a.s.- všeobec
 ná sestra a zdravotní laborant – Krajská nemocnice Liberec\, a.s.- el
 ektromontér – ČEZ Distribuce\, a.s.- svářeč plastů – UCT Fluid D
 elivery Solutions\, s.r.o.- lektor/performer – IQLANDIA\, o.p.s.- elektr
 onik – DGS Druckguss Systeme s.r.o.- policista – Krajské ředitelstv
 í policie Libereckého kraje- technolog lepení - Magna Exteriors (Bohemi
 a) s.r.o.- stavbyvedoucí\, laborant\, technik kvality– COLAS CZ\, a.s.1
 9. září 2022iQLANDIA LiberecNitranská 410/10Liberec\nBližší informa
 ce a kontakt pro registraci na telefonu 225 279 881 nebo 733 643 520.\n
URL:https://www.spcr.cz/ziva-knihovna-povolani-2
DTSTART:20220919T000000
DTEND:20220919T235959
LOCATION:
END:VEVENT
END:VCALENDAR
