BEGIN:VCALENDAR
PRODID:-//eluceo/ical//2.0/EN
VERSION:2.0
CALSCALE:GREGORIAN
BEGIN:VEVENT
UID:9fa53fa7172e0d22574c7029bd6ed255
DTSTAMP:20260423T192644Z
SUMMARY:Živá knihovna povolání
DESCRIPTION:Název akce: Živá knihovna povolání\nURL: https://www.spcr.
 cz/ziva-knihovna-povolani-3\nPopis: \n\nRozhoduješ se\, na jakou středn
 í školu půjdeš? Čím chceš být?Napadlo tě\, kde můžeš po škole
  pracovat?Přijď si na vlastní kůži vyzkoušet zajímavé profese!Sezn
 am se s firmami ve tvém okolí a vyber si tu správnou školu pro Tebe.
 \nS rozhodováním ti pomůže:- poradce pro volbu povolání – Úřad 
 práce ČR KoP Česká Lípa- konstruktér – Preciosa - Lustry\, a.s.- e
 lektromechanik-elektronik – Fehrer Bohemia s.r.o. (závod ČL)- elektrom
 ontér – ČEZ Distribuce\, a.s.- montážní dělník – Festool s.r.o.
 - projektový manažer – Lasvit s.r.o.- policista – Krajské ředitels
 tví policie Libereckého kraje- svářeč - Alstom Czech Republic a.s.- s
 tavbyvedoucí\, laborant\, technik kvality– COLAS CZ\, a.s.14. září 2
 022Kulturní dům CrystalBoženy Němcové 2942Česká LípaBližší info
 rmace a kontakt pro registraci na telefonu 225 279 881 nebo 733 643 52
 0.\n
URL:https://www.spcr.cz/ziva-knihovna-povolani-3
DTSTART:20220914T000000
DTEND:20220914T235959
LOCATION:
END:VEVENT
END:VCALENDAR
