BEGIN:VCALENDAR
PRODID:-//eluceo/ical//2.0/EN
VERSION:2.0
CALSCALE:GREGORIAN
BEGIN:VEVENT
UID:ff85a23d5dd593a4e75f7ff961c679c8
DTSTAMP:20260423T130228Z
SUMMARY:Inkluzivní český průmysl: jak na rovné podmínky na pracovišt
 i i pro LGBT+
DESCRIPTION:Název akce: Inkluzivní český průmysl: jak na rovné podmí
 nky na pracovišti i pro LGBT+\nURL: https://www.spcr.cz/inkluzivni-cesky-
 prumysl-jak-na-rovne-podminky-na-pracovisti-i-pro-lgbt\nPopis: \n\nPřidej
 te se k dalším firmám a organizacím\, které mají zájem zlepšit pra
 covní podmínky\, vytvořit efektivnější pracovní týmy a zajistit le
 pší ekonomické výsledky. Narovnáním podmínek pro LGBT+ lidi a jejic
 h rovností na pracovišti se bude zabývat sympozium “Inkluzivní česk
 ý průmysl: jak na rovné podmínky na pracovišti i pro LGBT+ lidi”\, 
 které pořádá platforma Pride Business Forum ve spolupráci se Svazem p
 růmyslu a dopravy ČR. Své příklady dobré praxe na setkání předsta
 ví ČEZ a Škoda Auto.PROČ SE ZÚČASTNIT SYMPOZIA O ČESKÉM PRŮMYSLU?
 · Představíme čísla a závěry z průzkumu Svazu průmyslu a dopravy 
 ČR.· Členové Pride Business Fora a SP ČR představí\, jak s rovnost
 í LGBT+ lidí na pracovišti začínali a jaký to mělo pro jejich spole
 čnosti a pracovní týmy přínos.· Představíme desatero konkrétních
  aktivit pro LGBT+ inkluzi v soukromém sektoruKOMU JE SYMPOZIUM URČENÉ?
 · Především HR a D&I specialistům a specialistkám.Vstup na sympozium
  je zdarma. Kapacita sympozia pro prezenční účast je omezena\, doporu
 čujeme si zajistit vstupenky co nejdříve. Sympozium proběhne pouze v 
 českém jazyce. Účast: prezenčně + onlineJazyk: češtinaRegistrace: 
 https://www.pridebusinessforum.com/events/inkluzivni-cesky-prumysl-jak-na-
 rovne-podminky-na-pracovisti-i-pro-lgbt-lidi/\n
URL:https://www.spcr.cz/inkluzivni-cesky-prumysl-jak-na-rovne-podminky-na-p
 racovisti-i-pro-lgbt
DTSTART:20220919T150000
DTEND:20220919T170000
LOCATION:
END:VEVENT
END:VCALENDAR
