BEGIN:VCALENDAR
PRODID:-//eluceo/ical//2.0/EN
VERSION:2.0
CALSCALE:GREGORIAN
BEGIN:VEVENT
UID:b6994f3e7242e245ba8eb4982c88a26c
DTSTAMP:20260423T113748Z
SUMMARY:Financing Your Business Transition to Kazakhstan
DESCRIPTION:Název akce: Financing Your Business Transition to Kazakhstan\n
 URL: https://www.spcr.cz/financing-your-business-transition-kazakhstan\nPo
 pis: \n\nFinancing Your Business Transition to Kazakhstan \n\nJoin the U.
 S. Commercial Service in Kazakhstan\, the Astana International Finance Cen
 ter (AIFC)\, Chevron Direct Investment Fund Ltd. and the U.S. Chamber of C
 ommerce in a conversation on emerging opportunities in Kazakhstan for U.S.
  companies.\nObjectives\n\nExplore 2022 trends and changes in Kazakhstan\n
 Gain insight on challenges to doing business\nLearn about AIFC’s role an
 d the regulatory landscape in Kazakhstan\nDiscover new funding opportuniti
 es into commercial local enterprises with Chevron Direct Investment Fund L
 td.\n\nFeatured Speakers\n\nDonald Townsend\, Senior Commercial Officer\, 
 U.S. Commercial Service Kazakhstan\, U.S. Department of Commerce\nYernur R
 ysmagambetov\, Chairman of the Management Board\, Astana International Fin
 ance Center Authority\nJennifer Miel\, Executive Director of the U.S. Cham
 ber of Commerce’s Middle East and Turkey Affairs Department/U.S. Kazakhs
 tan Business Council\nIshaq Burney\, Chief Legal Officer\, Astana Financia
 l Services Authority\nGareth Ling\, Deputy Chief Executive Officer\, Astan
 a Financial Services Authority\nDamon Thornburg\, General Manager\, Financ
 e\, Chevron Direct Investment Fund\n\nWho Should Attend?\n\nU.S. Companies
  considering alternative business locations\nU.S. Companies exploring new 
 business destinations\nU.S. Financial Services\, Environmental\, Informati
 on Technology and Oil and Gas Companies\n\nRegistration for this event in 
 needed - therefore\, if you consider your presence\, register here.\nFor 
 more information\, please contact Aliya Shaikhina\, Commercial Specialist\
 , Aliya.Shaikhina@trade.gov\n
URL:https://www.spcr.cz/financing-your-business-transition-kazakhstan
DTSTART:20220825T160000
DTEND:20220825T170000
LOCATION:
END:VEVENT
END:VCALENDAR
