BEGIN:VCALENDAR
PRODID:-//eluceo/ical//2.0/EN
VERSION:2.0
CALSCALE:GREGORIAN
BEGIN:VEVENT
UID:5fca361e1f21b29aebc3c359bbeff410
DTSTAMP:20260423T145806Z
SUMMARY:Online seminář: Zajištění logistiky na NĚMECKÉM trhu pro B2B
  i B2C zákazníky
DESCRIPTION:Název akce: Online seminář: Zajištění logistiky na NĚMEC
 KÉM trhu pro B2B i B2C zákazníky\nURL: https://www.spcr.cz/online-semin
 ar-zajisteni-logistiky-na-nemeckem-trhu-pro-b2b-i-b2c-zakazniky\nPopis: \n
 \nOnline seminář určený českým exportérům se zájmem o německý t
 rh.Probereme aktuální vývoj na německém trhu a následně se zaměř
 íme na praktické informace z oblasti logistiky - jaká jsou specifika lo
 gistiky na německém trhu\, očekávání místních partnerů a zákazn
 íků\, či jak řešit skladování a vratky.\nVíce informací a registr
 ace\n
URL:https://www.spcr.cz/online-seminar-zajisteni-logistiky-na-nemeckem-trhu
 -pro-b2b-i-b2c-zakazniky
DTSTART:20221011T140000
DTEND:20221011T153000
LOCATION:
END:VEVENT
END:VCALENDAR
