BEGIN:VCALENDAR
PRODID:-//eluceo/ical//2.0/EN
VERSION:2.0
CALSCALE:GREGORIAN
BEGIN:VEVENT
UID:038a4943c2f24e8e1fa78b542b58fa27
DTSTAMP:20260423T162951Z
SUMMARY:Online expanze na německy mluvící trhy: Jak na online prodej a m
 arketing v regionu DACH (Brno)
DESCRIPTION:Název akce: Online expanze na německy mluvící trhy: Jak na 
 online prodej a marketing v regionu DACH (Brno)\nURL: https://www.spcr.cz/
 online-expanze-na-nemecky-mluvici-trhy-jak-na-online-prodej-marketing-v-re
 gionu-dach-brno\nPopis: \n\nZveme Vás na seminář pořádaný agenturou 
 CzechTrade: Online expanze na německy mluvící trhy: Jak na online prod
 ej a marketing v regionu DACH.\nDozvíte se mimo jiné:\n• Rozdíly v e-
 commerce mezi Německem\, Rakouskem a Švýcarskem• Tvorba analýzy trhu
  a strategie expanze\, Branding a brand positioning\, právní minimum\, f
 inanční náročnost online expanze• Jak oslovit zákazníky a navázat
  spolupráci s obchodními zástupci• SEO optimalizace\, Sociální sít
 ě v regionu DACH a další marketingové kanály\nVíce informací a regi
 strace\n
URL:https://www.spcr.cz/online-expanze-na-nemecky-mluvici-trhy-jak-na-onlin
 e-prodej-marketing-v-regionu-dach-brno
DTSTART:20221005T130000
DTEND:20221005T160000
LOCATION:
END:VEVENT
END:VCALENDAR
